BEGIN:VCALENDAR
VERSION:2.0
PRODID:-//Balloon Industry Calendar - ECPv6.15.20//NONSGML v1.0//EN
CALSCALE:GREGORIAN
METHOD:PUBLISH
X-WR-CALNAME:Balloon Industry Calendar
X-ORIGINAL-URL:https://balloonindustrycalendar.com
X-WR-CALDESC:Events for Balloon Industry Calendar
REFRESH-INTERVAL;VALUE=DURATION:PT1H
X-Robots-Tag:noindex
X-PUBLISHED-TTL:PT1H
BEGIN:VTIMEZONE
TZID:America/Los_Angeles
BEGIN:DAYLIGHT
TZOFFSETFROM:-0800
TZOFFSETTO:-0700
TZNAME:PDT
DTSTART:20240310T100000
END:DAYLIGHT
BEGIN:STANDARD
TZOFFSETFROM:-0700
TZOFFSETTO:-0800
TZNAME:PST
DTSTART:20241103T090000
END:STANDARD
BEGIN:DAYLIGHT
TZOFFSETFROM:-0800
TZOFFSETTO:-0700
TZNAME:PDT
DTSTART:20250309T100000
END:DAYLIGHT
BEGIN:STANDARD
TZOFFSETFROM:-0700
TZOFFSETTO:-0800
TZNAME:PST
DTSTART:20251102T090000
END:STANDARD
BEGIN:DAYLIGHT
TZOFFSETFROM:-0800
TZOFFSETTO:-0700
TZNAME:PDT
DTSTART:20260308T100000
END:DAYLIGHT
BEGIN:STANDARD
TZOFFSETFROM:-0700
TZOFFSETTO:-0800
TZNAME:PST
DTSTART:20261101T090000
END:STANDARD
END:VTIMEZONE
BEGIN:VTIMEZONE
TZID:America/New_York
BEGIN:DAYLIGHT
TZOFFSETFROM:-0500
TZOFFSETTO:-0400
TZNAME:EDT
DTSTART:20240310T070000
END:DAYLIGHT
BEGIN:STANDARD
TZOFFSETFROM:-0400
TZOFFSETTO:-0500
TZNAME:EST
DTSTART:20241103T060000
END:STANDARD
BEGIN:DAYLIGHT
TZOFFSETFROM:-0500
TZOFFSETTO:-0400
TZNAME:EDT
DTSTART:20250309T070000
END:DAYLIGHT
BEGIN:STANDARD
TZOFFSETFROM:-0400
TZOFFSETTO:-0500
TZNAME:EST
DTSTART:20251102T060000
END:STANDARD
BEGIN:DAYLIGHT
TZOFFSETFROM:-0500
TZOFFSETTO:-0400
TZNAME:EDT
DTSTART:20260308T070000
END:DAYLIGHT
BEGIN:STANDARD
TZOFFSETFROM:-0400
TZOFFSETTO:-0500
TZNAME:EST
DTSTART:20261101T060000
END:STANDARD
END:VTIMEZONE
BEGIN:VTIMEZONE
TZID:America/Chicago
BEGIN:DAYLIGHT
TZOFFSETFROM:-0600
TZOFFSETTO:-0500
TZNAME:CDT
DTSTART:20240310T080000
END:DAYLIGHT
BEGIN:STANDARD
TZOFFSETFROM:-0500
TZOFFSETTO:-0600
TZNAME:CST
DTSTART:20241103T070000
END:STANDARD
BEGIN:DAYLIGHT
TZOFFSETFROM:-0600
TZOFFSETTO:-0500
TZNAME:CDT
DTSTART:20250309T080000
END:DAYLIGHT
BEGIN:STANDARD
TZOFFSETFROM:-0500
TZOFFSETTO:-0600
TZNAME:CST
DTSTART:20251102T070000
END:STANDARD
BEGIN:DAYLIGHT
TZOFFSETFROM:-0600
TZOFFSETTO:-0500
TZNAME:CDT
DTSTART:20260308T080000
END:DAYLIGHT
BEGIN:STANDARD
TZOFFSETFROM:-0500
TZOFFSETTO:-0600
TZNAME:CST
DTSTART:20261101T070000
END:STANDARD
END:VTIMEZONE
BEGIN:VEVENT
DTSTART;TZID=America/Los_Angeles:20250909T090000
DTEND;TZID=America/Los_Angeles:20250909T120000
DTSTAMP:20260419T091153
CREATED:20250715T230432Z
LAST-MODIFIED:20250715T230432Z
UID:845-1757408400-1757419200@balloonindustrycalendar.com
SUMMARY:TUFTEX TUESDAY en Espanol: Los Angeles (Joker Party Supply)
DESCRIPTION:Gratuito! 9 a.m. until 12 p.m. \nCreando Contenido: Jesymar de Jesy Decorations\, Orange\, CA\, está lista para ayudarte a convertir tus divertidas creaciones en contenido valioso. Aprende a grabar con lo que ya tienes (tu teléfono y tus creaciones) y edita sin agobios con CapCut. Jesy te guiará paso a paso y\, al final de la clase\, ¡tendrás contenido valioso listo para publicar! \nNo es necesario registrarse\, únete a la diversión! \nJoker Party Supply + TUFTEX se enorgullecen de ofrecer esta demostración GRATUITA para ayudarle a usted y a su empresa la oportunidad de crecer y prosperar
URL:https://balloonindustrycalendar.com/event/tuftex-tuesday-en-espanol-los-angeles-joker-party-supply
LOCATION:Joker Party Supply (Los Angeles)\, 1512 E Olympic Blvd.\, Los Angeles\, CA\, 90021\, United States
CATEGORIES:Décor,In Person,Taught in Spanish
END:VEVENT
BEGIN:VEVENT
DTSTART;TZID=America/New_York:20250910T083000
DTEND;TZID=America/New_York:20250910T160000
DTSTAMP:20260419T091153
CREATED:20250624T003525Z
LAST-MODIFIED:20250715T215233Z
UID:794-1757493000-1757520000@balloonindustrycalendar.com
SUMMARY:Anagram Academy Fall Semester Tour Featuring Mauricio Ramon - Bogart\, GA
DESCRIPTION:Fall is full of opportunity from back-to-school and football season to pumpkin patches and Halloween parties. We’ll show you how to turn these moments into money-making decor with adaptable\, sellable designs. \nWhat you can expect: \n\nPrep Rally Kickoff Master framing inflation\, and efficient solo installs.\nLunch & Learn Build your business with Jill’s Playbook during our “Half-Time Huddle.”\nSpooky Season Dive into Halloween balloon murals\, wreaths and organics with the Pumpkin King and friends.\nHands-On Training plus swag\, networking\, and real-world skills you can use right away.\n\nIn Partnership with Hi-Float and burton + BURTON. \n***First 20 people to register for this class receive EXCLUSIVE Anagram MERCH!
URL:https://balloonindustrycalendar.com/event/anagram-academy-fall-semester-tour-bogart-ga
LOCATION:burton + BURTON Headquarters\, 325 Cleveland Road\, Bogart\, GA\, 30622\, United States
CATEGORIES:Business,Décor,Hands-on,In Person
ATTACH;FMTTYPE=image/jpeg:https://balloonindustrycalendar.com/wp-content/uploads/2025/06/graphic-for-tour-scaled.jpeg
ORGANIZER;CN="Jill Shortreed/Anagram Balloons":MAILTO:shortrej@anagramintl.com
END:VEVENT
BEGIN:VEVENT
DTSTART;VALUE=DATE:20250913
DTEND;VALUE=DATE:20250915
DTSTAMP:20260419T091153
CREATED:20250620T131548Z
LAST-MODIFIED:20250620T195314Z
UID:761-1757721600-1757894399@balloonindustrycalendar.com
SUMMARY:Inflate your income:The business behind balloons
DESCRIPTION:The Inflate Your Income Conference is your ultimate launchpad for explosive growth. Stop letting opportunities float away – grab them with both hands and prepare for a year of unprecedented success!
URL:https://balloonindustrycalendar.com/event/inflate-your-incomethe-business-behind-balloons
LOCATION:Party Divas\, 870 Highway 54 E\, Fayetteville\, GA\, 30214\, United States
CATEGORIES:Business,Décor,Hands-on,In Person,Multi-day
ATTACH;FMTTYPE=image/jpeg:https://balloonindustrycalendar.com/wp-content/uploads/2025/06/inflateyourincome.jpg
ORGANIZER;CN="Inflate Your Income Team":MAILTO:info@theballoonsquad.com
END:VEVENT
BEGIN:VEVENT
DTSTART;TZID=America/Chicago:20250916T100000
DTEND;TZID=America/Chicago:20250916T120000
DTSTAMP:20260419T091153
CREATED:20250904T154949Z
LAST-MODIFIED:20250904T154949Z
UID:1464-1758016800-1758024000@balloonindustrycalendar.com
SUMMARY:TUFTEX TUESDAY with Kornpop Balloons
DESCRIPTION:Registration Fee is Returned in the form of store credit as long as you attend class \nCandy Cup Blast – All Skill Levels Balloon Twisting Class featuring TT-260s – Learn How to Make Candy Cups & Centerpieces! \nCome learn how to twist balloons with one of the most famous entertainers Kornpop the Klown! Kornpop has decades of experience in the balloon industry\, don’t miss the opportunity to meet him and learn his techniques! In this class you will learn how to make tsisted creations to top candy cups. Candy cups are great for kid events like class parties\, Trunk or Treat\, Valentine’s Day\, Birthday Parties\, and more! You will also learn how to make fun centerpieces! Don’t miss this awesome class sponsored by Tuftex Balloons! This class is hands on and for all skill levels\, beginner\, intermediate\, and experienced!
URL:https://balloonindustrycalendar.com/event/tuftex-tuesday-with-kornpop-balloons
LOCATION:All American Balloons (Arlington)\, 2406 E Randol Mill Road\, Arlington\, TX\, 76001\, United States
CATEGORIES:Business,Décor,In Person,Twisting
END:VEVENT
BEGIN:VEVENT
DTSTART;TZID=America/New_York:20250916T100000
DTEND;TZID=America/New_York:20250916T130000
DTSTAMP:20260419T091153
CREATED:20250715T230625Z
LAST-MODIFIED:20250715T230735Z
UID:847-1758016800-1758027600@balloonindustrycalendar.com
SUMMARY:TUFTEX TUESDAY: NY/NJ (HavinA Party)
DESCRIPTION:Free Class from 10 a.m. until 1 p.m. \n“Leaf” it to Tairi: Tairi Disla of Tairi Design Studio\, Brooklyn\, NY\, is ready for alllll the TUFTEX FALL decor! Throughout the morning\, she’ll share her garland and installation techniques to make your designs extra special just in time for sweater weather\, pumpkin lattes & colorful leaves. It’s almost time for a TUFTEX fall y’all! \n\nRegister now to secure your spot using the code TUFTEX Balloons at checkout www.havinaparty.com \n** must spend $99 USD on TUFTEX products to add ticket to cart
URL:https://balloonindustrycalendar.com/event/tuftex-tuesday-ny-nj-havina-party-2
LOCATION:HavinA Party Warehouse\, 1354 E 64th St\, Brooklyn\, New York\, 11236\, United States Minor Outlying Islands
CATEGORIES:Décor,In Person
END:VEVENT
BEGIN:VEVENT
DTSTART;TZID=America/Chicago:20250917T083000
DTEND;TZID=America/Chicago:20250917T160000
DTSTAMP:20260419T091153
CREATED:20250624T004021Z
LAST-MODIFIED:20250715T215154Z
UID:796-1758097800-1758124800@balloonindustrycalendar.com
SUMMARY:Anagram Academy Fall Semester Tour Featuring Stephanie Marquardt- Bloomington\, MN
DESCRIPTION:Fall is full of opportunity from back-to-school and football season to pumpkin patches and Halloween parties. We’ll show you how to turn these moments into money-making decor with adaptable\, sellable designs. \nWhat you can expect: \n\nPrep Rally Kickoff Master framing inflation\, and efficient solo installs.\nLunch & Learn Build your business with Jill’s Playbook during our “Half-Time Huddle.”\nSpooky Season Dive into Halloween balloon murals\, wreaths and organics with the Pumpkin King and friends.\nHands-On Training plus swag\, networking\, and real-world skills you can use right away.\n\nIn Partnership with Hi-Float and Mayflower Distributing. \n***First 20 people to register for this class receive EXCLUSIVE Anagram MERCH!
URL:https://balloonindustrycalendar.com/event/anagram-academy-fall-semester-tour-bloomington-mn
LOCATION:Anagram Education Center\, 5501 W. Old Shakopee Road\, Bloomington\, MN\, 55437\, United States
CATEGORIES:Business,Décor,Hands-on,In Person
ATTACH;FMTTYPE=image/jpeg:https://balloonindustrycalendar.com/wp-content/uploads/2025/06/graphic-for-tour-scaled.jpeg
ORGANIZER;CN="Jill Shortreed/Anagram Balloons":MAILTO:shortrej@anagramintl.com
END:VEVENT
BEGIN:VEVENT
DTSTART;TZID=America/New_York:20250917T180000
DTEND;TZID=America/New_York:20250917T210000
DTSTAMP:20260419T091153
CREATED:20250905T162522Z
LAST-MODIFIED:20250905T162522Z
UID:1468-1758132000-1758142800@balloonindustrycalendar.com
SUMMARY:From Cause to Celebration: Balloon Designs that Sell
DESCRIPTION:Anaitte Camacho of Sky High Balloons. \nThis class is designed for ready-to-sell designs just in time for October’s Breast Cancer Awareness events. \nThe class is being presented by: \n\nElitex Balloons\nMegaShine\nUglu Dashes\nThe Balloon Guild\n\nWhat You’ll Learn:  Design 1: Create an elevated awareness ribbon with stands\, accented by cascading flowers — a stunning\, profitable design that shines at evening. \nAna will guide you through: \n Twisting techniques  Classical design foundations Proper use of helium \n Metal bending techniques  Bendable PVC skills Oh so many tips! \nEarly bird price: $65 \nAfter Sept. 10: $80 \nIncludes delicious Italian appetizers & treats\, two brand-new\, never taught balloon recipes. \nSmall class size (only 15 students) for personalized attention. \nDon’t miss this opportunity to expand your portfolio\, sharpen your artistry\, and get a head start for Breast Cancer Awareness month.
URL:https://balloonindustrycalendar.com/event/from-cause-to-celebration-balloon-designs-that-sell
LOCATION:Lights Camera Selfies Balloon Studio\, 2109 N State Rd 7\, Hollywood\, FL\, 33021\, United States
CATEGORIES:Breast Cancer Awareness,Décor,In Person
ORGANIZER;CN="Lenor Ryan":MAILTO:Lenor@lightscameraselfies.com
END:VEVENT
BEGIN:VEVENT
DTSTART;TZID=America/New_York:20250924T083000
DTEND;TZID=America/New_York:20250924T160000
DTSTAMP:20260419T091153
CREATED:20250815T153522Z
LAST-MODIFIED:20250815T170915Z
UID:889-1758702600-1758729600@balloonindustrycalendar.com
SUMMARY:Mythical Tides: A Balloon Odyssey Mega Installation with Decor by Heidy - A Boston Balloon Class sponsored by Betallic Sempertex and Rainbow Balloons
DESCRIPTION:Dive deep into a Mega Installation with goddesses and mermaids. This maximalist installation\, with its mythical\, edgy\, and enchantingly underwater theme\, will break outside the box and teach you: organic installation décor\, twisting details\, ceiling installation\, lighting\, and designing & incorporating printing.
URL:https://balloonindustrycalendar.com/event/mythical-tides-a-balloon-odyssey-mega-installation-with-decor-by-heidy-a-boston-balloon-class-sponsored-by-betallic-sempertex-and-rainbow-balloons
LOCATION:Winchester Elks Lodge\, 375 Cambridge St.\, Winchester\, MA\, 01890\, United States
CATEGORIES:Business,Décor,In Person,Mega-installation,Sculpture,Twisting
END:VEVENT
BEGIN:VEVENT
DTSTART;TZID=America/New_York:20250930T090000
DTEND;TZID=America/New_York:20250930T120000
DTSTAMP:20260419T091153
CREATED:20250715T230956Z
LAST-MODIFIED:20250715T230956Z
UID:850-1759222800-1759233600@balloonindustrycalendar.com
SUMMARY:TUFTEX TUESDAY: Toronto Area (SKS Novelty)
DESCRIPTION:FREE CLASS! 9 a.m. until 12 p.m.  \nCreeping It Real: Gorgeous Boom Balloon Decor’s Estefanny Negrete of the Toronto area is bringing the spooky-glam Halloween vibes to SKS. Come and experience a step-by-step instruction on how to create her signature garland from scratch\, choose the perfect color combinations\, and style them to look both festive + fabulous. Trick or treat yo’self\, to this class. \nYou can register by sending an email to karenr@sksnovelty.ca or by calling 1-800-463-8684 \nSKS + TUFTEX are proud to provide this FREE demonstration to help give you & your business the opportunity to grow and thrive
URL:https://balloonindustrycalendar.com/event/tuftex-tuesday-toronto-area-sks-novelty-3
LOCATION:SKS Novelty (Mississaugua)\, 975 Pacific Gate Unit #12\, Mississauga\, Ontario\, L5T 2A9\, Canada
CATEGORIES:Décor,In Person
END:VEVENT
END:VCALENDAR