BEGIN:VCALENDAR
VERSION:2.0
PRODID:-//Balloon Industry Calendar - ECPv6.15.20//NONSGML v1.0//EN
CALSCALE:GREGORIAN
METHOD:PUBLISH
X-ORIGINAL-URL:https://balloonindustrycalendar.com
X-WR-CALDESC:Events for Balloon Industry Calendar
REFRESH-INTERVAL;VALUE=DURATION:PT1H
X-Robots-Tag:noindex
X-PUBLISHED-TTL:PT1H
BEGIN:VTIMEZONE
TZID:America/New_York
BEGIN:DAYLIGHT
TZOFFSETFROM:-0500
TZOFFSETTO:-0400
TZNAME:EDT
DTSTART:20240310T070000
END:DAYLIGHT
BEGIN:STANDARD
TZOFFSETFROM:-0400
TZOFFSETTO:-0500
TZNAME:EST
DTSTART:20241103T060000
END:STANDARD
BEGIN:DAYLIGHT
TZOFFSETFROM:-0500
TZOFFSETTO:-0400
TZNAME:EDT
DTSTART:20250309T070000
END:DAYLIGHT
BEGIN:STANDARD
TZOFFSETFROM:-0400
TZOFFSETTO:-0500
TZNAME:EST
DTSTART:20251102T060000
END:STANDARD
BEGIN:DAYLIGHT
TZOFFSETFROM:-0500
TZOFFSETTO:-0400
TZNAME:EDT
DTSTART:20260308T070000
END:DAYLIGHT
BEGIN:STANDARD
TZOFFSETFROM:-0400
TZOFFSETTO:-0500
TZNAME:EST
DTSTART:20261101T060000
END:STANDARD
END:VTIMEZONE
BEGIN:VTIMEZONE
TZID:Europe/London
BEGIN:DAYLIGHT
TZOFFSETFROM:+0000
TZOFFSETTO:+0100
TZNAME:BST
DTSTART:20240331T010000
END:DAYLIGHT
BEGIN:STANDARD
TZOFFSETFROM:+0100
TZOFFSETTO:+0000
TZNAME:GMT
DTSTART:20241027T010000
END:STANDARD
BEGIN:DAYLIGHT
TZOFFSETFROM:+0000
TZOFFSETTO:+0100
TZNAME:BST
DTSTART:20250330T010000
END:DAYLIGHT
BEGIN:STANDARD
TZOFFSETFROM:+0100
TZOFFSETTO:+0000
TZNAME:GMT
DTSTART:20251026T010000
END:STANDARD
BEGIN:DAYLIGHT
TZOFFSETFROM:+0000
TZOFFSETTO:+0100
TZNAME:BST
DTSTART:20260329T010000
END:DAYLIGHT
BEGIN:STANDARD
TZOFFSETFROM:+0100
TZOFFSETTO:+0000
TZNAME:GMT
DTSTART:20261025T010000
END:STANDARD
END:VTIMEZONE
BEGIN:VEVENT
DTSTART;TZID=America/New_York:20250612T090000
DTEND;TZID=America/New_York:20250612T180000
DTSTAMP:20260422T064236
CREATED:20250524T172738Z
LAST-MODIFIED:20250524T172738Z
UID:703-1749718800-1749751200@balloonindustrycalendar.com
SUMMARY:The Rainbow Tour with Robbie Furman - Fairfield\, NJ
DESCRIPTION:Join award-winning Artist Robbie Furman\, CBA as he takes you STEP-BY-STEP into the world of DECO-TWISTING. Students will learn some of Robbie’s favorite designs that he has been teaching AND selling to his clients for over 20 years. Robbie’s easy-to-learn techniques will allow you to create many different designs that will AMAZE your own clients. This class is for EVERYONE\, decorator\, twister\, beginners\, and seasoned pros. \nFull day workshop that includes lunch! All supplies will be provided.
URL:https://balloonindustrycalendar.com/event/the-rainbow-tour-with-robbie-furman-fairfield-nj
LOCATION:Best Western Plus Fairfield Executive Inn\, 216 US Highway 46\, Fairfield\, NJ\, 07004\, United States
CATEGORIES:Deco-twisting,Décor,In Person,Twisting
ORGANIZER;CN="Rainbow Balloons":MAILTO:sales@rainbowballoons.com
END:VEVENT
BEGIN:VEVENT
DTSTART;TZID=America/New_York:20250611T090000
DTEND;TZID=America/New_York:20250611T180000
DTSTAMP:20260422T064236
CREATED:20250524T172245Z
LAST-MODIFIED:20250524T172245Z
UID:698-1749632400-1749664800@balloonindustrycalendar.com
SUMMARY:The Rainbow Tour with Robbie Furman - Albany Area
DESCRIPTION:Join award-winning Artist Robbie Furman\, CBA as he takes you STEP-BY-STEP into the world of DECO-TWISTING. Students will learn some of Robbie’s favorite designs that he has been teaching AND selling to his clients for over 20 years. Robbie’s easy-to-learn techniques will allow you to create many different designs that will AMAZE your own clients. This class is for EVERYONE\, decorator\, twister\, beginners\, and seasoned pros. \nFull day workshop that includes lunch! All supplies will be provided.
URL:https://balloonindustrycalendar.com/event/the-rainbow-tour-with-robbie-furman-albany-area
LOCATION:Holiday Inn Express & Suites Albany Airport\, Albany Airport\, 16 Wolf Rd\, Albany\, NY\, 12203\, United States
CATEGORIES:Deco-twisting,Décor,In Person,Twisting
ORGANIZER;CN="Rainbow Balloons":MAILTO:sales@rainbowballoons.com
END:VEVENT
BEGIN:VEVENT
DTSTART;TZID=America/New_York:20250610T090000
DTEND;TZID=America/New_York:20250610T180000
DTSTAMP:20260422T064236
CREATED:20250514T163224Z
LAST-MODIFIED:20250524T172258Z
UID:685-1749546000-1749578400@balloonindustrycalendar.com
SUMMARY:The Rainbow Tour with Robbie Furman - Boston Area
DESCRIPTION:Join award-winning Artist Robbie Furman\, CBA as he takes you STEP-BY-STEP into the world of DECO-TWISTING. Students will learn some of Robbie’s favorite designs that he has been teaching AND selling to his clients for over 20 years. Robbie’s easy-to-learn techniques will allow you to create many different designs that will AMAZE your own clients. This class is for EVERYONE\, decorator\, twister\, beginners\, and seasoned pros. \nFull day workshop that includes lunch! All supplies will be provided.
URL:https://balloonindustrycalendar.com/event/the-rainbow-tour-with-robbie-furman
LOCATION:Holiday Inn Express Boston\, 999 Broadway\, Saugus\, MA\, 01906\, United States
CATEGORIES:Deco-twisting,Décor,In Person,Twisting
ORGANIZER;CN="Rainbow Balloons":MAILTO:sales@rainbowballoons.com
END:VEVENT
BEGIN:VEVENT
DTSTART;TZID=Europe/London:20250429T093000
DTEND;TZID=Europe/London:20250429T170000
DTSTAMP:20260422T064236
CREATED:20250228T205030Z
LAST-MODIFIED:20250228T205030Z
UID:469-1745919000-1745946000@balloonindustrycalendar.com
SUMMARY:MASTERING THE ART OF BALLOON BOWS - Advanced Twisting Techniques
DESCRIPTION:You admired the stunning balloon bow at Christmas—now it’s your turn to create your own! \nThis advanced course is perfect for those with basic balloon twisting skills who want to elevate their designs with intricate twisting techniques. \nJoin us on Tuesday\, 29th April\, from 9:30 AM to 5:00 PM\, where you’ll master advanced balloon twisting methods\, including weaving\, to craft a variety of bow styles. These can be used as accents or stunning focal points in your balloon décor. \nAs part of the course\, you’ll create your own version of the popular bow showcased during our Christmas Experience day in November. \nThis workshop is led by Angie George and Rob Driscoll\, professional instructors with extensive expertise in the balloon industry. Supported by Tuftex\, the course also gives you the chance to work with their exciting new range of modelling balloons. \nNOTE: Basic Balloon Twisting Skills are required for this course to give you the ultimate learning experience \nSPECIAL OFFER: If you’re new to balloon twisting\, we have a Basic Twisting Course on 15th April. Book both courses together and receive a 10% discount on this advanced course (discount applied at invoicing). \nSpaces are limited to ensure a quality learning experience\, and this course is already in high demand—don’t miss out! \nYour course fee includes: \n\nAll balloon materials\nLunch & refreshments\nCertificate of attendance\nAfter-course support
URL:https://balloonindustrycalendar.com/event/mastering-the-art-of-balloon-bows-advanced-twisting-techniques
LOCATION:Creative Craft Workshops\, Potters Bar\, Hertfordshire\, EN6\, United Kingdom
CATEGORIES:In Person,Twisting
END:VEVENT
BEGIN:VEVENT
DTSTART;VALUE=DATE:20250427
DTEND;VALUE=DATE:20250429
DTSTAMP:20260422T064236
CREATED:20250109T001358Z
LAST-MODIFIED:20250111T190714Z
UID:162-1745712000-1745884799@balloonindustrycalendar.com
SUMMARY:Party Industry Event (PIE UK) The Slate in Warwickshire
DESCRIPTION:
URL:https://balloonindustrycalendar.com/event/party-industry-event-pie-uk-the-slate-in-warwickshire
LOCATION:The Slate\, Warwickshire\, The University of Warwick\, Scarman Road\, Coventry\, Warwickshire\, CV4 7AL\, United Kingdom
CATEGORIES:Décor,In Person,Multi-day,Twisting
ORGANIZER;CN="NABAS":MAILTO:info@nabas.co.uk
END:VEVENT
BEGIN:VEVENT
DTSTART;VALUE=DATE:20250323
DTEND;VALUE=DATE:20250325
DTSTAMP:20260422T064236
CREATED:20250108T005654Z
LAST-MODIFIED:20250111T190754Z
UID:155-1742688000-1742860799@balloonindustrycalendar.com
SUMMARY:CAP EXPO
DESCRIPTION:
URL:https://balloonindustrycalendar.com/event/cap-expo
LOCATION:Telford International Centre\, International Way\, Telford\, TF3 4JH\, United Kingdom
CATEGORIES:Décor,In Person,Multi-day,Twisting
END:VEVENT
BEGIN:VEVENT
DTSTART;VALUE=DATE:20250219
DTEND;VALUE=DATE:20250223
DTSTAMP:20260422T064236
CREATED:20250108T005430Z
LAST-MODIFIED:20250111T190841Z
UID:152-1739923200-1740268799@balloonindustrycalendar.com
SUMMARY:TWIST & SHOUT\, Atlanta\, GA
DESCRIPTION:
URL:https://balloonindustrycalendar.com/event/twist-shout-atlanta-ga
LOCATION:Atlanta Marriott Buckhead Hotel & Conference Center\, 3405 Lenox Rd NE\, Atlanta\, GA\, 30326\, United States
CATEGORIES:In Person,Multi-day,Twisting
END:VEVENT
BEGIN:VEVENT
DTSTART;TZID=America/New_York:20250107T140000
DTEND;TZID=America/New_York:20250107T210000
DTSTAMP:20260422T064236
CREATED:20241228T213512Z
LAST-MODIFIED:20250111T191207Z
UID:20-1736258400-1736283600@balloonindustrycalendar.com
SUMMARY:Twist Fest Balloon Day
DESCRIPTION:Join us for a fun-filled day of twisting balloons\, learning\, and laughter at Twist Fest Balloon Day!
URL:https://balloonindustrycalendar.com/event/twist-fest-balloon-day
LOCATION:Knights of Columbus (Brooklyn)\, 3051 Nostrand Ave.\, Brooklyn\, NY\, 11229\, United States
CATEGORIES:In Person,Twisting
END:VEVENT
END:VCALENDAR