BEGIN:VCALENDAR
VERSION:2.0
PRODID:-//Balloon Industry Calendar - ECPv6.15.20//NONSGML v1.0//EN
CALSCALE:GREGORIAN
METHOD:PUBLISH
X-WR-CALNAME:Balloon Industry Calendar
X-ORIGINAL-URL:https://balloonindustrycalendar.com
X-WR-CALDESC:Events for Balloon Industry Calendar
REFRESH-INTERVAL;VALUE=DURATION:PT1H
X-Robots-Tag:noindex
X-PUBLISHED-TTL:PT1H
BEGIN:VTIMEZONE
TZID:America/New_York
BEGIN:DAYLIGHT
TZOFFSETFROM:-0500
TZOFFSETTO:-0400
TZNAME:EDT
DTSTART:20250309T070000
END:DAYLIGHT
BEGIN:STANDARD
TZOFFSETFROM:-0400
TZOFFSETTO:-0500
TZNAME:EST
DTSTART:20251102T060000
END:STANDARD
BEGIN:DAYLIGHT
TZOFFSETFROM:-0500
TZOFFSETTO:-0400
TZNAME:EDT
DTSTART:20260308T070000
END:DAYLIGHT
BEGIN:STANDARD
TZOFFSETFROM:-0400
TZOFFSETTO:-0500
TZNAME:EST
DTSTART:20261101T060000
END:STANDARD
BEGIN:DAYLIGHT
TZOFFSETFROM:-0500
TZOFFSETTO:-0400
TZNAME:EDT
DTSTART:20270314T070000
END:DAYLIGHT
BEGIN:STANDARD
TZOFFSETFROM:-0400
TZOFFSETTO:-0500
TZNAME:EST
DTSTART:20271107T060000
END:STANDARD
END:VTIMEZONE
BEGIN:VEVENT
DTSTART;VALUE=DATE:20260414
DTEND;VALUE=DATE:20260416
DTSTAMP:20260421T070156
CREATED:20260218T182032Z
LAST-MODIFIED:20260218T182149Z
UID:2158-1776124800-1776297599@balloonindustrycalendar.com
SUMMARY:Balloon Master Class with André and Grace Figueiredo
DESCRIPTION:Gaby’s Balloons Presenta\nBALLOON MASTER CLASS\nWITH ANDRÉ & GRACE FIGUEIREDO (FROM BRAZIL) \n📅 APRIL 14 & 15 📍 ANAHEIM\, CALIFORNIA \nAfter Mar 15 $450 April $475 \nREGISTER TODAY! (626) 257-0147 (Text Friendly) \nJoin us for a 2-day\, hands-on class where you’ll learn new techniques while helping decorate a large Brazilian style scenery. Build together as a team\, gain real event experience\, and enjoy raffles and giveaways from our sponsors. \n@andrefigueiredoo
URL:https://balloonindustrycalendar.com/event/balloon-master-class-with-andre-and-grace-figueiredo
LOCATION:Anaheim\, California\, Anaheim\, CA\, United States
CATEGORIES:Décor,In Person,Multi-day
END:VEVENT
END:VCALENDAR