BEGIN:VCALENDAR
VERSION:2.0
PRODID:-//Balloon Industry Calendar - ECPv6.15.20//NONSGML v1.0//EN
CALSCALE:GREGORIAN
METHOD:PUBLISH
X-ORIGINAL-URL:https://balloonindustrycalendar.com
X-WR-CALDESC:Events for Balloon Industry Calendar
REFRESH-INTERVAL;VALUE=DURATION:PT1H
X-Robots-Tag:noindex
X-PUBLISHED-TTL:PT1H
BEGIN:VTIMEZONE
TZID:America/New_York
BEGIN:DAYLIGHT
TZOFFSETFROM:-0500
TZOFFSETTO:-0400
TZNAME:EDT
DTSTART:20250309T070000
END:DAYLIGHT
BEGIN:STANDARD
TZOFFSETFROM:-0400
TZOFFSETTO:-0500
TZNAME:EST
DTSTART:20251102T060000
END:STANDARD
BEGIN:DAYLIGHT
TZOFFSETFROM:-0500
TZOFFSETTO:-0400
TZNAME:EDT
DTSTART:20260308T070000
END:DAYLIGHT
BEGIN:STANDARD
TZOFFSETFROM:-0400
TZOFFSETTO:-0500
TZNAME:EST
DTSTART:20261101T060000
END:STANDARD
BEGIN:DAYLIGHT
TZOFFSETFROM:-0500
TZOFFSETTO:-0400
TZNAME:EDT
DTSTART:20270314T070000
END:DAYLIGHT
BEGIN:STANDARD
TZOFFSETFROM:-0400
TZOFFSETTO:-0500
TZNAME:EST
DTSTART:20271107T060000
END:STANDARD
END:VTIMEZONE
BEGIN:VEVENT
DTSTART;VALUE=DATE:20260130
DTEND;VALUE=DATE:20260202
DTSTAMP:20260421T062905
CREATED:20251109T162736Z
LAST-MODIFIED:20251109T162736Z
UID:1740-1769731200-1769990399@balloonindustrycalendar.com
SUMMARY:Kapital Kidvention
DESCRIPTION:Creativity at its finest\n\n\n\n\n\n\n\nThis Kidvention has everything for the Children’s Entertainer.  Whether you are a magician\, clown\, face painter\, or balloon artist!  We will have 3 days of classes for everyone.  Including tons of business classes to get more gigs!
URL:https://balloonindustrycalendar.com/event/kapital-kidvention
LOCATION:Crystal Gateway Marriott\, 1700 Richmond Highway\, Arlington\, Virginia\, 22202
CATEGORIES:Décor,In Person,Multi-day,Twisting
END:VEVENT
BEGIN:VEVENT
DTSTART;TZID=America/New_York:20260212T110000
DTEND;TZID=America/New_York:20260213T180000
DTSTAMP:20260421T062905
CREATED:20251228T170521Z
LAST-MODIFIED:20251228T170521Z
UID:2050-1770894000-1771005600@balloonindustrycalendar.com
SUMMARY:Galentine's Two Day Beginner Class
DESCRIPTION:Organic Balloon Design: Galentine’s Edition\nThe Luminous Space | Spring Hill (Tampa\, Florida)\nHosted by Jenee’ Peets-Dockery\nFebruary 12–13\, 2026 \nGet ready for two full days of creativity\, connection\, and confidence as you learn the art of organic balloon design and build the skills to elevate your business. This beginner-friendly\, hands-on training blends design\, business strategy\, and content creation\, all wrapped in signature JPD style.\nWhat to Expect \nDay 1 (11 AM – 7 PM)\n• Business essentials for growth\n• JPD Viral Formula hands-on training + live garland demonstration\n• Build an 8-foot organic balloon hoop under JPD’s direction\n• Social media learning session + student giveaways\n• Lunch + all supplies provided \nDay 2 (11 AM – 6 PM)\n• Signature rope & honeycomb techniques\n• Build a 10-foot balloon wall\n• Social media session + student giveaways\n• Light refreshments provided\n• Certificate presentation + all supplies included
URL:https://balloonindustrycalendar.com/event/galentines-two-day-beginner-class
LOCATION:The Luminous Space\, 14223 Powell Rd.\, Spring Hill\, FL\, 34609\, United States
CATEGORIES:Business,Décor,Hands-on,In Person,Multi-day
END:VEVENT
END:VCALENDAR