BEGIN:VCALENDAR
VERSION:2.0
PRODID:-//Balloon Industry Calendar - ECPv6.15.20//NONSGML v1.0//EN
CALSCALE:GREGORIAN
METHOD:PUBLISH
X-ORIGINAL-URL:https://balloonindustrycalendar.com
X-WR-CALDESC:Events for Balloon Industry Calendar
REFRESH-INTERVAL;VALUE=DURATION:PT1H
X-Robots-Tag:noindex
X-PUBLISHED-TTL:PT1H
BEGIN:VTIMEZONE
TZID:America/Los_Angeles
BEGIN:DAYLIGHT
TZOFFSETFROM:-0800
TZOFFSETTO:-0700
TZNAME:PDT
DTSTART:20240310T100000
END:DAYLIGHT
BEGIN:STANDARD
TZOFFSETFROM:-0700
TZOFFSETTO:-0800
TZNAME:PST
DTSTART:20241103T090000
END:STANDARD
BEGIN:DAYLIGHT
TZOFFSETFROM:-0800
TZOFFSETTO:-0700
TZNAME:PDT
DTSTART:20250309T100000
END:DAYLIGHT
BEGIN:STANDARD
TZOFFSETFROM:-0700
TZOFFSETTO:-0800
TZNAME:PST
DTSTART:20251102T090000
END:STANDARD
BEGIN:DAYLIGHT
TZOFFSETFROM:-0800
TZOFFSETTO:-0700
TZNAME:PDT
DTSTART:20260308T100000
END:DAYLIGHT
BEGIN:STANDARD
TZOFFSETFROM:-0700
TZOFFSETTO:-0800
TZNAME:PST
DTSTART:20261101T090000
END:STANDARD
END:VTIMEZONE
BEGIN:VEVENT
DTSTART;TZID=America/Los_Angeles:20250909T090000
DTEND;TZID=America/Los_Angeles:20250909T120000
DTSTAMP:20260422T060403
CREATED:20250715T230432Z
LAST-MODIFIED:20250715T230432Z
UID:845-1757408400-1757419200@balloonindustrycalendar.com
SUMMARY:TUFTEX TUESDAY en Espanol: Los Angeles (Joker Party Supply)
DESCRIPTION:Gratuito! 9 a.m. until 12 p.m. \nCreando Contenido: Jesymar de Jesy Decorations\, Orange\, CA\, está lista para ayudarte a convertir tus divertidas creaciones en contenido valioso. Aprende a grabar con lo que ya tienes (tu teléfono y tus creaciones) y edita sin agobios con CapCut. Jesy te guiará paso a paso y\, al final de la clase\, ¡tendrás contenido valioso listo para publicar! \nNo es necesario registrarse\, únete a la diversión! \nJoker Party Supply + TUFTEX se enorgullecen de ofrecer esta demostración GRATUITA para ayudarle a usted y a su empresa la oportunidad de crecer y prosperar
URL:https://balloonindustrycalendar.com/event/tuftex-tuesday-en-espanol-los-angeles-joker-party-supply
LOCATION:Joker Party Supply (Los Angeles)\, 1512 E Olympic Blvd.\, Los Angeles\, CA\, 90021\, United States
CATEGORIES:Décor,In Person,Taught in Spanish
END:VEVENT
END:VCALENDAR