BEGIN:VCALENDAR
VERSION:2.0
PRODID:-//Balloon Industry Calendar - ECPv6.15.20//NONSGML v1.0//EN
CALSCALE:GREGORIAN
METHOD:PUBLISH
X-ORIGINAL-URL:https://balloonindustrycalendar.com
X-WR-CALDESC:Events for Balloon Industry Calendar
REFRESH-INTERVAL;VALUE=DURATION:PT1H
X-Robots-Tag:noindex
X-PUBLISHED-TTL:PT1H
BEGIN:VTIMEZONE
TZID:America/New_York
BEGIN:DAYLIGHT
TZOFFSETFROM:-0500
TZOFFSETTO:-0400
TZNAME:EDT
DTSTART:20240310T070000
END:DAYLIGHT
BEGIN:STANDARD
TZOFFSETFROM:-0400
TZOFFSETTO:-0500
TZNAME:EST
DTSTART:20241103T060000
END:STANDARD
BEGIN:DAYLIGHT
TZOFFSETFROM:-0500
TZOFFSETTO:-0400
TZNAME:EDT
DTSTART:20250309T070000
END:DAYLIGHT
BEGIN:STANDARD
TZOFFSETFROM:-0400
TZOFFSETTO:-0500
TZNAME:EST
DTSTART:20251102T060000
END:STANDARD
BEGIN:DAYLIGHT
TZOFFSETFROM:-0500
TZOFFSETTO:-0400
TZNAME:EDT
DTSTART:20260308T070000
END:DAYLIGHT
BEGIN:STANDARD
TZOFFSETFROM:-0400
TZOFFSETTO:-0500
TZNAME:EST
DTSTART:20261101T060000
END:STANDARD
END:VTIMEZONE
BEGIN:VEVENT
DTSTART;TZID=America/New_York:20251118T090000
DTEND;TZID=America/New_York:20251118T160000
DTSTAMP:20260420T042132
CREATED:20251016T163749Z
LAST-MODIFIED:20251016T163749Z
UID:1612-1763456400-1763481600@balloonindustrycalendar.com
SUMMARY:Raise the Roof - Ceiling Installs Made Simple (Livonia\, MI)
DESCRIPTION:Join Maggie Jenkins of Pop Charlotte Balloons for this New Year’s-themed workshop where we’re taking balloon decor straight to the ceiling! \nFrom helium hacks that keep your balloons floating for days to secrets that let you hang designs without a ladder\, this hands-on class is filled with pro tips to make ceiling decor faster\, safer\, and more profitable. \nTopics covered include: \n\nCeiling Install Tools\nHelium Hacks\nCeiling Designs\nBusiness and Pricing Confidence\n\nREGISTER TODAY! \nSIGN UP ONLINE AT A2ZBALLOONS.COM
URL:https://balloonindustrycalendar.com/event/raise-the-roof-ceiling-installs-made-simple-livonia-mi
LOCATION:St. Priscilla – Livonia\, MI\, 19120 Purlingbrook St.\, Livonia\, MI\, 48152\, United States
CATEGORIES:Business,Décor,Hands-on,In Person
ATTACH;FMTTYPE=image/png:https://balloonindustrycalendar.com/wp-content/uploads/2025/10/raise-the-roof-2025-11-18.png
END:VEVENT
END:VCALENDAR