BEGIN:VCALENDAR
VERSION:2.0
PRODID:-//Balloon Industry Calendar - ECPv6.15.20//NONSGML v1.0//EN
CALSCALE:GREGORIAN
METHOD:PUBLISH
X-ORIGINAL-URL:https://balloonindustrycalendar.com
X-WR-CALDESC:Events for Balloon Industry Calendar
REFRESH-INTERVAL;VALUE=DURATION:PT1H
X-Robots-Tag:noindex
X-PUBLISHED-TTL:PT1H
BEGIN:VTIMEZONE
TZID:Europe/London
BEGIN:DAYLIGHT
TZOFFSETFROM:+0000
TZOFFSETTO:+0100
TZNAME:BST
DTSTART:20250330T010000
END:DAYLIGHT
BEGIN:STANDARD
TZOFFSETFROM:+0100
TZOFFSETTO:+0000
TZNAME:GMT
DTSTART:20251026T010000
END:STANDARD
BEGIN:DAYLIGHT
TZOFFSETFROM:+0000
TZOFFSETTO:+0100
TZNAME:BST
DTSTART:20260329T010000
END:DAYLIGHT
BEGIN:STANDARD
TZOFFSETFROM:+0100
TZOFFSETTO:+0000
TZNAME:GMT
DTSTART:20261025T010000
END:STANDARD
BEGIN:DAYLIGHT
TZOFFSETFROM:+0000
TZOFFSETTO:+0100
TZNAME:BST
DTSTART:20270328T010000
END:DAYLIGHT
BEGIN:STANDARD
TZOFFSETFROM:+0100
TZOFFSETTO:+0000
TZNAME:GMT
DTSTART:20271031T010000
END:STANDARD
END:VTIMEZONE
BEGIN:VTIMEZONE
TZID:America/New_York
BEGIN:DAYLIGHT
TZOFFSETFROM:-0500
TZOFFSETTO:-0400
TZNAME:EDT
DTSTART:20250309T070000
END:DAYLIGHT
BEGIN:STANDARD
TZOFFSETFROM:-0400
TZOFFSETTO:-0500
TZNAME:EST
DTSTART:20251102T060000
END:STANDARD
BEGIN:DAYLIGHT
TZOFFSETFROM:-0500
TZOFFSETTO:-0400
TZNAME:EDT
DTSTART:20260308T070000
END:DAYLIGHT
BEGIN:STANDARD
TZOFFSETFROM:-0400
TZOFFSETTO:-0500
TZNAME:EST
DTSTART:20261101T060000
END:STANDARD
BEGIN:DAYLIGHT
TZOFFSETFROM:-0500
TZOFFSETTO:-0400
TZNAME:EDT
DTSTART:20270314T070000
END:DAYLIGHT
BEGIN:STANDARD
TZOFFSETFROM:-0400
TZOFFSETTO:-0500
TZNAME:EST
DTSTART:20271107T060000
END:STANDARD
END:VTIMEZONE
BEGIN:VTIMEZONE
TZID:America/Chicago
BEGIN:DAYLIGHT
TZOFFSETFROM:-0600
TZOFFSETTO:-0500
TZNAME:CDT
DTSTART:20250309T080000
END:DAYLIGHT
BEGIN:STANDARD
TZOFFSETFROM:-0500
TZOFFSETTO:-0600
TZNAME:CST
DTSTART:20251102T070000
END:STANDARD
BEGIN:DAYLIGHT
TZOFFSETFROM:-0600
TZOFFSETTO:-0500
TZNAME:CDT
DTSTART:20260308T080000
END:DAYLIGHT
BEGIN:STANDARD
TZOFFSETFROM:-0500
TZOFFSETTO:-0600
TZNAME:CST
DTSTART:20261101T070000
END:STANDARD
BEGIN:DAYLIGHT
TZOFFSETFROM:-0600
TZOFFSETTO:-0500
TZNAME:CDT
DTSTART:20270314T080000
END:DAYLIGHT
BEGIN:STANDARD
TZOFFSETFROM:-0500
TZOFFSETTO:-0600
TZNAME:CST
DTSTART:20271107T070000
END:STANDARD
END:VTIMEZONE
BEGIN:VTIMEZONE
TZID:America/Los_Angeles
BEGIN:DAYLIGHT
TZOFFSETFROM:-0800
TZOFFSETTO:-0700
TZNAME:PDT
DTSTART:20250309T100000
END:DAYLIGHT
BEGIN:STANDARD
TZOFFSETFROM:-0700
TZOFFSETTO:-0800
TZNAME:PST
DTSTART:20251102T090000
END:STANDARD
BEGIN:DAYLIGHT
TZOFFSETFROM:-0800
TZOFFSETTO:-0700
TZNAME:PDT
DTSTART:20260308T100000
END:DAYLIGHT
BEGIN:STANDARD
TZOFFSETFROM:-0700
TZOFFSETTO:-0800
TZNAME:PST
DTSTART:20261101T090000
END:STANDARD
BEGIN:DAYLIGHT
TZOFFSETFROM:-0800
TZOFFSETTO:-0700
TZNAME:PDT
DTSTART:20270314T100000
END:DAYLIGHT
BEGIN:STANDARD
TZOFFSETFROM:-0700
TZOFFSETTO:-0800
TZNAME:PST
DTSTART:20271107T090000
END:STANDARD
END:VTIMEZONE
BEGIN:VEVENT
DTSTART;VALUE=DATE:20260322
DTEND;VALUE=DATE:20260324
DTSTAMP:20260425T210450
CREATED:20260119T145714Z
LAST-MODIFIED:20260119T145714Z
UID:2102-1774137600-1774310399@balloonindustrycalendar.com
SUMMARY:Celebration & Party Expo (CAP Expo)
DESCRIPTION:The Celebration & Party Expo 2026\n\n\nThe ONLY trade show for party and event professionals.\nThe must-attend event for party and event professionals is back — bigger\, brighter\, and more inspiring than ever! \n​ \nJoin us for two action-packed days where the celebration industry comes alive. Connect with top suppliers\, manufacturers\, and creative innovators\, discover the latest trends and products\, and get hands-on with interactive demos that spark ideas and elevate your business. \n​ \nWhether you’re a party retailer\, decorator\, event planner\, or creative entrepreneur\, CAP Expo is your chance to explore new possibilities\, network with industry leaders\, and take your celebrations to the next level. This isn’t just a trade show — it’s a playground for creativity\, inspiration\, and growth.
URL:https://balloonindustrycalendar.com/event/celebration-party-expo-cap-expo
LOCATION:Telford International Centre\, International Way\, Telford\, TF3 4JH\, United Kingdom
CATEGORIES:Business,Décor,Free,In Person,Multi-day,Twisting
ATTACH;FMTTYPE=image/png:https://balloonindustrycalendar.com/wp-content/uploads/2026/01/8.png
ORGANIZER;CN="BAPIA Ltd":MAILTO:Info@bapiaonline.com
END:VEVENT
BEGIN:VEVENT
DTSTART;TZID=America/New_York:20260324T090000
DTEND;TZID=America/New_York:20260324T120000
DTSTAMP:20260425T210450
CREATED:20260216T002534Z
LAST-MODIFIED:20260216T002534Z
UID:2154-1774342800-1774353600@balloonindustrycalendar.com
SUMMARY:TUFTEX TUESDAY: DMV area (Balloons Direct)
DESCRIPTION:FREE CLASS: 9 a.m. until 12 p.m. \nJoin Tameeka Mitchell of Balloons by Menysa\, Hagerstown\, MD\, for a hands-on class focused on creating sellable looks with classic balloon decor. Classic balloon decor is efficient\, polished\, and profitable! In this class\, you’ll learn how to confidently build a column\, an arch\, and apply those same core techniques to create a stack. This is the perfect class for decorators who want timeless designs that are easy to sell\, quick to execute\, and scalable for events of all sizes. \nSign up today at www.balloonsdirect.com \nClass held at Balloons Direct’s warehouse: 7405 Lockport Pl\, Suite D Lorton\, VA 22079 \n* Balloons Direct + TUFTEX are proud to provide this FREE demonstration and balloon class to help give you & your business the opportunity to grow and thrive
URL:https://balloonindustrycalendar.com/event/tuftex-tuesday-dmv-area-balloons-direct-2
LOCATION:Balloons Direct\, 7405 Lockport Pl\, Suite D\, Lorton\, VA\, 22079\, United States
CATEGORIES:Décor,Free,Hands-on,In Person
ATTACH;FMTTYPE=image/png:https://balloonindustrycalendar.com/wp-content/uploads/2026/02/tuftex_3251_a9e8414c.png
END:VEVENT
BEGIN:VEVENT
DTSTART;TZID=America/New_York:20260324T090000
DTEND;TZID=America/New_York:20260324T120000
DTSTAMP:20260425T210450
CREATED:20260306T222402Z
LAST-MODIFIED:20260306T222402Z
UID:2187-1774342800-1774353600@balloonindustrycalendar.com
SUMMARY:TUFTEX TUESDAY: Atlanta (PS Helium)
DESCRIPTION:FREE BALLOON CLASS: 9 a.m. until 12 p.m. \nJoin Caitlyn Dentenac of Confetti POP in Alpharetta\, GA\, to learn how to design and construct an organic balloon mural wall using structured color blocking\, dimensional cluster layering\, and detailed micro-cluster techniques. Demonstrated through a classic balloon flag backdrop and enhanced with embellishments like bows\, minis\, florals\, and fringe\, this elevated\, graphic style can be adapted to birthdays\, holidays\, and branded events. You’ll leave confident in creating statement organic mural backdrops for any celebration! \nRegister now to secure your spot: www.pshelium.com \nClass held at PS Helium: 5990 Unity Dr Ste H\, Norcross\, GA 30071 \nPS Helium + TUFTEX are proud to provide this FREE demonstration to help give you & your business the opportunity to grow and thrive
URL:https://balloonindustrycalendar.com/event/tuftex-tuesday-atlanta-ps-helium-2
LOCATION:PS Helium\, 5990 Unity Drive\, Suite J\, Norcross\, GA\, 30071\, United States
CATEGORIES:Décor,Free,In Person
END:VEVENT
BEGIN:VEVENT
DTSTART;TZID=America/Chicago:20260331T090000
DTEND;TZID=America/Chicago:20260331T120000
DTSTAMP:20260425T210450
CREATED:20260216T002203Z
LAST-MODIFIED:20260216T002203Z
UID:2149-1774947600-1774958400@balloonindustrycalendar.com
SUMMARY:TUFTEX TUESDAY en español! Houston (AL Party)
DESCRIPTION:¡Clase gratis! 9 a.m. – 12 p.m. \nÚnete a Carolina Reyes de Art Complementos\, Pasadena\, TX\, quien te mostrará cómo crear una pared de globos utilizando la técnica de dobletes lineales\, realzada con elementos orgánicos y detalles florales hechos a mano con globos TT-260. Esta clase combina técnicas clásicas\, orgánicas y de torsión para una experiencia de aprendizaje completa. Saldrás con nuevas habilidades\, mayor confianza y toda la inspiración necesaria para crear decoraciones espectaculares. \nRegístrate ahora para asegurar tu plaza: www.alpartyballoons.com \nUbicación A.L. Party 1108 N Loop 336 W Suite P Conroe\, TX 77301 \nA.L. Party + TUFTEX se enorgullecen de ofrecer esta demostración GRATUITA para ayudarle a usted y a su negocio a crecer y prosperar.
URL:https://balloonindustrycalendar.com/event/tuftex-tuesday-en-espanol-houston-al-party
LOCATION:A.L. Party\, 1108 N Loop 336 W Suite P\, Conroe\, TX\, 77301\, United States
CATEGORIES:Décor,Free,Hands-on,In Person,Taught in Spanish
ATTACH;FMTTYPE=image/png:https://balloonindustrycalendar.com/wp-content/uploads/2026/02/tuftex_2774_90ef48dd.png
END:VEVENT
BEGIN:VEVENT
DTSTART;TZID=America/Chicago:20260407T100000
DTEND;TZID=America/Chicago:20260407T130000
DTSTAMP:20260425T210450
CREATED:20251122T201148Z
LAST-MODIFIED:20260219T201931Z
UID:1876-1775556000-1775566800@balloonindustrycalendar.com
SUMMARY:TUFTEX TUESDAY in San Antonio (Toy World)
DESCRIPTION:Free Class in San Antonio: 10 a.m. until 1 p.m. \nHello Spring! Join Brianna Salazar of Radiant Balloon Designs\, Seguin\, TX\, for a refreshing morning of hands-on learning featuring TUFTEX pastel shades. You will learn Brianna’s signature garland technique while discovering how to add dimension and maintain a soft\, airy aesthetic. This class is perfect for both beginners and seasoned balloon artists looking to refine their craft. Let’s welcome spring with style and creativity! \nClass location: Toy World San Antonio 10537 Gulfdale St.\, San Antonio\, TX 78216 \nRegister now to secure your spot: www.toyworldinc.co \n* Toy World + TUFTEX are proud to provide this FREE demonstration to help give you & your business the opportunity to grow and thrive
URL:https://balloonindustrycalendar.com/event/tuftex-tuesday-in-san-antonio-toy-world-2
LOCATION:Toy World (San Antonio)\, 10537 Gulfdale St\, San Antonio\, TX\, 78216\, United States
CATEGORIES:Décor,Free,Hands-on,In Person
ATTACH;FMTTYPE=image/png:https://balloonindustrycalendar.com/wp-content/uploads/2025/11/Radiant-Balloon-Designs-1.png
END:VEVENT
BEGIN:VEVENT
DTSTART;TZID=America/New_York:20260414T090000
DTEND;TZID=America/New_York:20260414T120000
DTSTAMP:20260425T210450
CREATED:20260216T001812Z
LAST-MODIFIED:20260306T220801Z
UID:2147-1776157200-1776168000@balloonindustrycalendar.com
SUMMARY:TUFTEX TUESDAY: NY/NJ (HavinA Party)
DESCRIPTION:Free Class** from 9 a.m. until 12 p.m. \nJoin TUFTEX\, Havin’ A Party and Ifrah Akram of Wowlloons\, Pembroke\, MA\, for a colorful morning dedicated to everything rainbows! 🌈 Learn how to create every rainbow style from classic to organic\, flowing to sculpted\, using stunning TUFTEX color combinations. This hands-on class is perfect for Pride setups\, fun parties\, and any celebration that calls for bold color and creativity. \nLocation: Class held at the HavinA Party Warehouse: 1354 E 64th St\, Brooklyn\, NY 11234 \n** must spend $99 USD on TUFTEX products to add ticket to cart \nHavin’ A Party + TUFTEX are proud to provide this FREE balloon class and demonstration to help give you & your business the opportunity to grow and thrive
URL:https://balloonindustrycalendar.com/event/tuftex-friday-ny-nj-havina-party
LOCATION:HavinA Party Warehouse\, 1354 E 64th St\, Brooklyn\, New York\, 11236\, United States Minor Outlying Islands
CATEGORIES:Décor,Free,Hands-on,In Person
ATTACH;FMTTYPE=image/png:https://balloonindustrycalendar.com/wp-content/uploads/2026/02/tuftex_2910_2352595d.png
END:VEVENT
BEGIN:VEVENT
DTSTART;TZID=America/New_York:20260421T090000
DTEND;TZID=America/New_York:20260421T120000
DTSTAMP:20260425T210450
CREATED:20260307T143145Z
LAST-MODIFIED:20260307T143145Z
UID:2195-1776762000-1776772800@balloonindustrycalendar.com
SUMMARY:TUFTEX TUESDAY: Toronto Area (SKS Novelty)
DESCRIPTION:FREE BALLOON CLASS! 9 a.m. until 12 p.m. \nJoin Colin Stewart of STEWART’s Baskets & Balloons\, Collingwood\, ON\, for an exciting\, hands-on balloon decorating experience designed to elevate your skills and expand your creative possibilities. This class goes far beyond just building one butterfly mural. You’ll discover how these foundational techniques translate into walls\, sculptures\, and even custom corporate logos. Learn how to master the structure and precision details that open the door to high-end installations\, statement backdrops\, branded event décor\, and so much more. \nClass held at SKS Novelty 975 Pacific Gate Unit #12 Mississauga\, ON L5T 2A9 \nYou can register by sending an email to karenr@sksnovelty.ca or by calling 1-800-463-8684 \nSKS + TUFTEX are proud to provide this FREE demonstration to help give you & your business the opportunity to grow and thrive
URL:https://balloonindustrycalendar.com/event/tuftex-tuesday-toronto-area-sks-novelty-4
LOCATION:SKS Novelty (Mississaugua)\, 975 Pacific Gate Unit #12\, Mississauga\, Ontario\, L5T 2A9\, Canada
CATEGORIES:Décor,Free,Hands-on,In Person
END:VEVENT
BEGIN:VEVENT
DTSTART;TZID=America/New_York:20260421T100000
DTEND;TZID=America/New_York:20260421T120000
DTSTAMP:20260425T210450
CREATED:20260224T204036Z
LAST-MODIFIED:20260224T204036Z
UID:2171-1776765600-1776772800@balloonindustrycalendar.com
SUMMARY:TUFTEX TUESDAY: El Paso (Xicali Balloons)
DESCRIPTION:Free Balloon Class from 9 a.m. until 12 p.m. in English & Spanish! \nJoin Noeli Remiro of So Pretty Balloons\, who’s traveling all the way from Miami\, Florida for a special class focused on Mother’s Day. Attendees will learn to create a blooming balloon garden flowing beautifully from a teapot\, featuring twisted TT-260 florals and a sculpted surprise detail. This delicate Mother’s Day design will be full of charm and the sweetest springtime touches\, perfect for spring events\, boutique installs\, or heartfelt gifting moments\, this piece is sure to make moms feel celebrated and loved. \nClass held at Xicali Balloons: 320 South El Paso St. El Paso\, TX 79901 \nRegister now by phone (915) 600-5173 or in-person at Xicali \nXicali + TUFTEX are proud to provide this FREE demonstration to help give you & your business the opportunity to grow and thrive
URL:https://balloonindustrycalendar.com/event/tuftex-tuesday-el-paso-xicali-balloons
LOCATION:Xicali Balloons\, 320 South El Paso Street\, El Paso\, TX\, 79901\, United States
CATEGORIES:Décor,Free,Hands-on,In Person,Taught in Spanish
ATTACH;FMTTYPE=image/png:https://balloonindustrycalendar.com/wp-content/uploads/2026/02/tuftex_4315_dd0236b8.png
END:VEVENT
BEGIN:VEVENT
DTSTART;TZID=America/Los_Angeles:20260505T090000
DTEND;TZID=America/Los_Angeles:20260505T120000
DTSTAMP:20260425T210450
CREATED:20260411T182537Z
LAST-MODIFIED:20260411T182537Z
UID:2553-1777971600-1777982400@balloonindustrycalendar.com
SUMMARY:TUFTEX TUESDAY en Espanol: San Diego (Balloons Pro US)
DESCRIPTION:¡Clase gratis! en espanol: 9 a.m. – 12 p.m. \n\n\n\n\n\nAcompaña a TUFTEX Color Crew Jacqueline Hernandez\, de Jackie’s Balloon Decor (Perris\, CA)\, en una divertida clase dedicada por completo al arte del tejido con globos. En esta sesión\, aprenderás a crear una falda utilizando globos TUFTEX TT-260\, al tiempo que construyes una estructura sólida con un acabado pulido y profesional. Jacqueline te guiará paso a paso a través de la técnica básica\, ayudándote a desarrollar tus habilidades y creatividad a lo largo del proceso. \n\n\nClase Balloons Pro US  1655 Broadway Suite #7 Chula Vista\, CA 91911 \n\n\nRegístrate ahora para asegurar tu lugar: https://balloonspro.com/ \n\n\n*Balloons Pro US + TUFTEX se enorgullecen de ofrecer esta demostración GRATUITA para brindarles a usted y a su negocio la oportunidad de crecer y prosperar.
URL:https://balloonindustrycalendar.com/event/tuftex-tuesday-en-espanol-san-diego-balloons-pro-us
LOCATION:Balloons Pro US\, 1655 Broadway Suite #7\, Chula Vista\, CA\, 91911\, United States
CATEGORIES:Décor,Free,In Person,Taught in Spanish
ATTACH;FMTTYPE=image/png:https://balloonindustrycalendar.com/wp-content/uploads/2026/04/tuftex_3021_2026-05-05_c72b1374.png
END:VEVENT
BEGIN:VEVENT
DTSTART;TZID=America/Los_Angeles:20260602T090000
DTEND;TZID=America/Los_Angeles:20260602T120000
DTSTAMP:20260425T210450
CREATED:20260216T001616Z
LAST-MODIFIED:20260216T002226Z
UID:2141-1780390800-1780401600@balloonindustrycalendar.com
SUMMARY:TUFTEX TUESDAY en Espanol: Los Angeles (Joker Party Supply)
DESCRIPTION:Gratuito! 9 a.m. until 12 p.m. \nÚnete a Angela Johnson de Angie Balloon Art LA para una clase creativa y práctica sobre cómo realzar la decoración de tus eventos. Esta clase se centra en desarrollar la confianza en el diseño y en darle a tus instalaciones ese toque sofisticado y elegante que tanto les gusta a los clientes. Es hora de dejar de hacer arcos básicos y empezar a crear arte con globos. Explorarás el uso del color\, la escala y la textura\, con muchos detalles rosas y femeninos. Ven con ganas de experimentar\, de innovar en tu estilo y de inspirarte para diseñar instalaciones atrevidas e impactantes. \nClase celebrada en party supply: 1512 East Olympic Blvd Los Angeles\, CA 90021 \nJoker Party Supply + TUFTEX se enorgullecen de ofrecer esta clase e instrucción GRATUITA sobre globos para ayudarte a ti y a tu negocio a tener la oportunidad de crecer y prosperar.
URL:https://balloonindustrycalendar.com/event/tuftex-tuesday-en-espanol-los-angeles-joker-party-supply-3
LOCATION:Joker Party Supply (Los Angeles)\, 1512 E Olympic Blvd.\, Los Angeles\, CA\, 90021\, United States
CATEGORIES:Décor,Free,Hands-on,In Person,Taught in Spanish
ATTACH;FMTTYPE=image/png:https://balloonindustrycalendar.com/wp-content/uploads/2026/02/tuftex_4278_8b5f118c.png
END:VEVENT
BEGIN:VEVENT
DTSTART;TZID=America/New_York:20260602T090000
DTEND;TZID=America/New_York:20260602T120000
DTSTAMP:20260425T210450
CREATED:20260405T194724Z
LAST-MODIFIED:20260405T194724Z
UID:2309-1780390800-1780401600@balloonindustrycalendar.com
SUMMARY:TUFTEX TUESDAY: Balloons Online (Toronto Area)
DESCRIPTION:Free Class from 9 a.m. until 12 p.m. \n\n\nJoin the one and only Jenny Porter of Three Sparrows Balloons\, Oshawa\, Ontario\, a seasoned TUFTEX TEACHER and Color Crew member\, for a fun and creative Farm Fiesta class. In this TUFTEX Tuesday\, we’ll explore the Alternate Square Pack technique and learn how to turn it into a playful\, photo-ready design. You’ll learn how to build clean\, dimensional structures\, with a mix of demonstration\, guided instruction\, and hands-on application throughout the class\, because down on the farm\, every detail counts. \n\n\nClass held at Balloons Online: 6600 Dixie Road\, Unit 3   Mississauga\, Ontario L5T 2Y2 \nRegister now to secure your spot: https://www.eventbrite.ca/e/farm-fiesta-tuftex-tuesday-june-2-2026-tickets-1985955840379?aff=oddtdtcreator \n* Balloons Online + TUFTEX are proud to provide this FREE demonstration to help give you & your business the opportunity to grow and thrive
URL:https://balloonindustrycalendar.com/event/tuftex-tuesday-balloons-online-toronto-area
LOCATION:Balloons Online\, 6600 Dixie Road\, Unit 3\, Missassauga\, Ontario\, L5T 2Y2\, Canada
CATEGORIES:Décor,Free,Hands-on,In Person
ATTACH;FMTTYPE=image/jpeg:https://balloonindustrycalendar.com/wp-content/uploads/2026/04/tuftex_2718_2026-06-02_1a89af6d.jpg
END:VEVENT
BEGIN:VEVENT
DTSTART;TZID=America/Chicago:20260602T100000
DTEND;TZID=America/Chicago:20260602T130000
DTSTAMP:20260425T210450
CREATED:20251225T233352Z
LAST-MODIFIED:20251225T234159Z
UID:2034-1780394400-1780405200@balloonindustrycalendar.com
SUMMARY:TUFTEX TUESDAY in San Antonio (Toy World)
DESCRIPTION:Free Balloon Class in San Antonio: 10 a.m. until 1 p.m. \nWelcome home! Join Elizabeth Garza of Liza’s Beautiful Balloons\, Manor\, TX\, for a hands-on morning creating custom balloon stacks. These designs are a favorite for “welcome home” moments and local collabs with realtors\, but they can be styled for any celebration. Come learn how to build eye-catching stacks your clients will love! You’ll walk away with repeatable techniques that make these builds fast\, profitable\, and easy to customize. Plus\, Elizabeth will share her tips for marketing and selling these stacks to boost your everyday bookings. \nClass location: Toy World San Antonio 10537 Gulfdale St.\, San Antonio\, TX 78216 \nRegister now to secure your spot: https://www.toyworldinc.co \n* Toy World + TUFTEX are proud to provide this FREE balloon instruction and demonstration to help give you & your business the opportunity to grow and thrive
URL:https://balloonindustrycalendar.com/event/tuftex-tuesday-in-san-antonio-toy-world
LOCATION:Toy World (San Antonio)\, 10537 Gulfdale St\, San Antonio\, TX\, 78216\, United States
CATEGORIES:Décor,Free,Hands-on,In Person
ATTACH;FMTTYPE=image/png:https://balloonindustrycalendar.com/wp-content/uploads/2025/12/tuftex_3928_fb19ddf8.png
END:VEVENT
END:VCALENDAR