BEGIN:VCALENDAR
VERSION:2.0
PRODID:-//Balloon Industry Calendar - ECPv6.15.20//NONSGML v1.0//EN
CALSCALE:GREGORIAN
METHOD:PUBLISH
X-ORIGINAL-URL:https://balloonindustrycalendar.com
X-WR-CALDESC:Events for Balloon Industry Calendar
REFRESH-INTERVAL;VALUE=DURATION:PT1H
X-Robots-Tag:noindex
X-PUBLISHED-TTL:PT1H
BEGIN:VTIMEZONE
TZID:America/Los_Angeles
BEGIN:DAYLIGHT
TZOFFSETFROM:-0800
TZOFFSETTO:-0700
TZNAME:PDT
DTSTART:20250309T100000
END:DAYLIGHT
BEGIN:STANDARD
TZOFFSETFROM:-0700
TZOFFSETTO:-0800
TZNAME:PST
DTSTART:20251102T090000
END:STANDARD
BEGIN:DAYLIGHT
TZOFFSETFROM:-0800
TZOFFSETTO:-0700
TZNAME:PDT
DTSTART:20260308T100000
END:DAYLIGHT
BEGIN:STANDARD
TZOFFSETFROM:-0700
TZOFFSETTO:-0800
TZNAME:PST
DTSTART:20261101T090000
END:STANDARD
BEGIN:DAYLIGHT
TZOFFSETFROM:-0800
TZOFFSETTO:-0700
TZNAME:PDT
DTSTART:20270314T100000
END:DAYLIGHT
BEGIN:STANDARD
TZOFFSETFROM:-0700
TZOFFSETTO:-0800
TZNAME:PST
DTSTART:20271107T090000
END:STANDARD
END:VTIMEZONE
BEGIN:VTIMEZONE
TZID:America/Chicago
BEGIN:DAYLIGHT
TZOFFSETFROM:-0600
TZOFFSETTO:-0500
TZNAME:CDT
DTSTART:20250309T080000
END:DAYLIGHT
BEGIN:STANDARD
TZOFFSETFROM:-0500
TZOFFSETTO:-0600
TZNAME:CST
DTSTART:20251102T070000
END:STANDARD
BEGIN:DAYLIGHT
TZOFFSETFROM:-0600
TZOFFSETTO:-0500
TZNAME:CDT
DTSTART:20260308T080000
END:DAYLIGHT
BEGIN:STANDARD
TZOFFSETFROM:-0500
TZOFFSETTO:-0600
TZNAME:CST
DTSTART:20261101T070000
END:STANDARD
BEGIN:DAYLIGHT
TZOFFSETFROM:-0600
TZOFFSETTO:-0500
TZNAME:CDT
DTSTART:20270314T080000
END:DAYLIGHT
BEGIN:STANDARD
TZOFFSETFROM:-0500
TZOFFSETTO:-0600
TZNAME:CST
DTSTART:20271107T070000
END:STANDARD
END:VTIMEZONE
BEGIN:VTIMEZONE
TZID:America/New_York
BEGIN:DAYLIGHT
TZOFFSETFROM:-0500
TZOFFSETTO:-0400
TZNAME:EDT
DTSTART:20250309T070000
END:DAYLIGHT
BEGIN:STANDARD
TZOFFSETFROM:-0400
TZOFFSETTO:-0500
TZNAME:EST
DTSTART:20251102T060000
END:STANDARD
BEGIN:DAYLIGHT
TZOFFSETFROM:-0500
TZOFFSETTO:-0400
TZNAME:EDT
DTSTART:20260308T070000
END:DAYLIGHT
BEGIN:STANDARD
TZOFFSETFROM:-0400
TZOFFSETTO:-0500
TZNAME:EST
DTSTART:20261101T060000
END:STANDARD
BEGIN:DAYLIGHT
TZOFFSETFROM:-0500
TZOFFSETTO:-0400
TZNAME:EDT
DTSTART:20270314T070000
END:DAYLIGHT
BEGIN:STANDARD
TZOFFSETFROM:-0400
TZOFFSETTO:-0500
TZNAME:EST
DTSTART:20271107T060000
END:STANDARD
END:VTIMEZONE
BEGIN:VEVENT
DTSTART;TZID=America/Los_Angeles:20260203T090000
DTEND;TZID=America/Los_Angeles:20260203T120000
DTSTAMP:20260421T121831
CREATED:20260107T020132Z
LAST-MODIFIED:20260107T020132Z
UID:2065-1770109200-1770120000@balloonindustrycalendar.com
SUMMARY:TUFTEX TUESDAY: Los Angeles (Joker Party Supply)
DESCRIPTION:Free Balloon Class in English 9 a.m. until 12 p.m. \nJoin TUFTEX Color Crew Member Karla Labrador of Karla’s Krafty Kouture\, Northridge\, CA\, for a lovely morning of learning. Karla will walk you through creating a soft colored\, spring inspired balloon bouquet filled with loads of playful texture using TUFTEX Balloons. This class is perfect for those looking to add a fresh style to their designs while exploring gentle color palettes and layered textures. Karla will share her tips for building balance\, movement\, and dimension so your bouquets feel light\, whimsical\, and full of charm. \nClass Location: Joker Party Supply 1512 E Olympic Blvd.\, Los Angeles\, CA 90021 \nNo registration required\, just come join in the fun and learning! \n* Joker Party Supply + TUFTEX are proud to provide this FREE balloon instruction and demonstration to help give you & your business the opportunity to grow and thrive
URL:https://balloonindustrycalendar.com/event/tuftex-tuesday-los-angeles-joker-party-supply-9
LOCATION:Joker Party Supply (Los Angeles)\, 1512 E Olympic Blvd.\, Los Angeles\, CA\, 90021\, United States
CATEGORIES:Décor,Free,Hands-on,In Person
ATTACH;FMTTYPE=image/png:https://balloonindustrycalendar.com/wp-content/uploads/2026/01/tuftex_4015_13cf9eda.png
END:VEVENT
BEGIN:VEVENT
DTSTART;TZID=America/Chicago:20260203T100000
DTEND;TZID=America/Chicago:20260203T130000
DTSTAMP:20260421T121831
CREATED:20260125T194238Z
LAST-MODIFIED:20260125T194238Z
UID:2111-1770112800-1770123600@balloonindustrycalendar.com
SUMMARY:TUFTEX TUESDAY: San Antonio (Helium Xpress)
DESCRIPTION:Free Balloon Class from 10 a.m. until 1 p.m. \nJoin Catherine Stephens and Celie Skidmore of Bling It on SA for practical tips\, smart pricing insights\, and fiesta worthy design inspiration that you can apply to your business right away! In this class\, they’ll focus on their preferred balloon techniques for building grand\, sturdy arches and share strategies to turn this single service into a high-profit offering. You’ll learn how to maximize margins with a product that installs quickly while still delivering major visual impact. \nRegister now to secure your spot: www.heliumxpress.com \nLocation: Helium Xpress 5417 Bandera Road\, Suite 601 San Antonio\, Texas 78238 \nHelium Xpress + TUFTEX are proud to provide this FREE balloon instruction and demonstration to help give you & your business the opportunity to grow and thrive.
URL:https://balloonindustrycalendar.com/event/tuftex-tuesday-san-antonio-helium-xpress-2
LOCATION:Helium Xpress (San Antonio)\, 5417 Bandera Road\, Suite 601\, San Antonio\, TX\, 78238\, United States
CATEGORIES:Décor,Free,Hands-on,In Person
ATTACH;FMTTYPE=image/png:https://balloonindustrycalendar.com/wp-content/uploads/2026/01/tuftex_2787_ee04ebbf.png
END:VEVENT
BEGIN:VEVENT
DTSTART;TZID=America/Chicago:20260212T100000
DTEND;TZID=America/Chicago:20260212T130000
DTSTAMP:20260421T121831
CREATED:20251117T211456Z
LAST-MODIFIED:20251117T211456Z
UID:1812-1770890400-1770901200@balloonindustrycalendar.com
SUMMARY:TUFTEX THURSDAY in San Antonio (Toy World)
DESCRIPTION:Free Class in San Antonio: 10 a.m. until 1 p.m. \nGet ready to spread the love with Andrea Sanchez of Magical Balloons\, San Antonio. In this fun Valentine’s themed class\, we’ll build a show-stopping balloon wall using a mix of the linear duplex technique and organic technique. We’ll also learn simple twisting tricks to add extra depth and dimension\, creating the ultimate romantic photo backdrop. Step by step\, Andrea will guide you through how to design\, recreate\, and sell this professional (and totally profitable) balloon décor for your own clients this Valentine’s season. \nClass location: Toy World San Antonio 10537 Gulfdale St.\, San Antonio\, TX 78216 \nRegister now to secure your spot: www.toyworldinc.co \n* Toy World + TUFTEX are proud to provide this FREE demonstration to help give you & your business the opportunity to grow and thrive
URL:https://balloonindustrycalendar.com/event/tuftex-thursday-in-san-antonio-toy-world
LOCATION:Toy World (San Antonio)\, 10537 Gulfdale St\, San Antonio\, TX\, 78216\, United States
CATEGORIES:Business,Décor,Free,Hands-on,In Person
ATTACH;FMTTYPE=image/png:https://balloonindustrycalendar.com/wp-content/uploads/2025/11/tuftex_3840_2026-02-12_084a1ff0.png
END:VEVENT
BEGIN:VEVENT
DTSTART;TZID=America/New_York:20260224T090000
DTEND;TZID=America/New_York:20260224T120000
DTSTAMP:20260421T121831
CREATED:20260125T194446Z
LAST-MODIFIED:20260125T194446Z
UID:2114-1771923600-1771934400@balloonindustrycalendar.com
SUMMARY:TUFTEX TUESDAY: Montreal (SKS Novelty)
DESCRIPTION:Free Balloon Class from 9 a.m. until 12 p.m. \nJoin us for a fun TUFTEX Tuesday session with Sparkle Parties’ Tamara Smargiassi and Maria Cammisano\, Laval\, Quebec. They’ll demonstrate how to create a super cute balloon rainbow using the compact duplet technique. You’ll learn how to blow up\, stack\, and shape your balloons\, step by step\, so they fit seamlessly together for that cute\, perfect rainbow look. \nRegister now by sending an email to lynn@sksnovelty.ca \nLocation: 1351 J Rue Ampere Boucherville\, QC J4B 5Z5 \nSKS + TUFTEX are proud to provide this FREE balloon instruction and demonstration to help give you & your business the opportunity to grow and thrive.
URL:https://balloonindustrycalendar.com/event/tuftex-tuesday-montreal-sks-novelty-2
LOCATION:SKS Novelty (Boucherville)\, 1351 J Rue Ampere\, Boucherville\, Quebec\, J4B 5Z5\, Canada
CATEGORIES:Décor,Free,Hands-on,In Person
ATTACH;FMTTYPE=image/png:https://balloonindustrycalendar.com/wp-content/uploads/2026/01/tuftex_1776_0c1c7744.png
END:VEVENT
END:VCALENDAR