BEGIN:VCALENDAR
VERSION:2.0
PRODID:-//Balloon Industry Calendar - ECPv6.15.20//NONSGML v1.0//EN
CALSCALE:GREGORIAN
METHOD:PUBLISH
X-ORIGINAL-URL:https://balloonindustrycalendar.com
X-WR-CALDESC:Events for Balloon Industry Calendar
REFRESH-INTERVAL;VALUE=DURATION:PT1H
X-Robots-Tag:noindex
X-PUBLISHED-TTL:PT1H
BEGIN:VTIMEZONE
TZID:America/Los_Angeles
BEGIN:DAYLIGHT
TZOFFSETFROM:-0800
TZOFFSETTO:-0700
TZNAME:PDT
DTSTART:20240310T100000
END:DAYLIGHT
BEGIN:STANDARD
TZOFFSETFROM:-0700
TZOFFSETTO:-0800
TZNAME:PST
DTSTART:20241103T090000
END:STANDARD
BEGIN:DAYLIGHT
TZOFFSETFROM:-0800
TZOFFSETTO:-0700
TZNAME:PDT
DTSTART:20250309T100000
END:DAYLIGHT
BEGIN:STANDARD
TZOFFSETFROM:-0700
TZOFFSETTO:-0800
TZNAME:PST
DTSTART:20251102T090000
END:STANDARD
BEGIN:DAYLIGHT
TZOFFSETFROM:-0800
TZOFFSETTO:-0700
TZNAME:PDT
DTSTART:20260308T100000
END:DAYLIGHT
BEGIN:STANDARD
TZOFFSETFROM:-0700
TZOFFSETTO:-0800
TZNAME:PST
DTSTART:20261101T090000
END:STANDARD
END:VTIMEZONE
BEGIN:VEVENT
DTSTART;TZID=America/Los_Angeles:20251209T090000
DTEND;TZID=America/Los_Angeles:20251209T160000
DTSTAMP:20260424T063842
CREATED:20251009T210501Z
LAST-MODIFIED:20251009T210628Z
UID:1529-1765270800-1765296000@balloonindustrycalendar.com
SUMMARY:BALLOON CLASS - The Great Balloon Bake Off: Birthday Edition
DESCRIPTION:Instructors Tisha Tinsman and Marty Mardigian. \nLunch and Hotel Parking Included!
URL:https://balloonindustrycalendar.com/event/balloon-class-the-great-balloon-bake-off-birthday-edition
LOCATION:Embassy Suites Hotel – Glendale\, CA\, 800 N Central Ave.\, Glendale\, CA\, 91203\, United States
CATEGORIES:Business,Décor,In Person
ATTACH;FMTTYPE=image/jpeg:https://balloonindustrycalendar.com/wp-content/uploads/2025/10/LAB-Balloon-Class-Dec2025.jpg
ORGANIZER;CN="LA Balloons":MAILTO:Help@LABalloons.com
END:VEVENT
BEGIN:VEVENT
DTSTART;TZID=America/Los_Angeles:20251209T090000
DTEND;TZID=America/Los_Angeles:20251209T160000
DTSTAMP:20260424T063842
CREATED:20251107T220249Z
LAST-MODIFIED:20251107T220249Z
UID:1732-1765270800-1765296000@balloonindustrycalendar.com
SUMMARY:Class: The Great Balloon Bake Off: Birthday Edition (LA area)
DESCRIPTION:🍰 𝗧𝗵𝗲 𝗚𝗿𝗲𝗮𝘁 𝗕𝗮𝗹𝗹𝗼𝗼𝗻 𝗕𝗮𝗸𝗲 𝗢𝗳𝗳: 𝗕𝗶𝗿𝘁𝗵𝗱𝗮𝘆 𝗘𝗱𝗶𝘁𝗶𝗼𝗻 \n🍰 Join LA Balloons and TUFTEX for an exclusive hands-on\, fun instructional day created for balloon pros who want to master the latest birthday trends\, from bold installs to playful party pieces. Whether you’re building your brand or refreshing your style\, this class will give you the tools to stand out in the biggest event market of the year. \nGet ready to mix\, twist\, and bake up balloon brilliance with Tisha Tinsman of Little Party Girl and Mary Mardigian of Balloon Studio LA\, two of the industry’s most imaginative balloon artists\, teaming up for a full day of trend-driven designs\, and a sprinkle of friendly competition. \n🧁 With Tisha\, you’ll dive into her signature style of whimsical\, high-impact crazy towers\, complete with fun twisted accents and imaginative structure. She’ll also guide you through helium safety and inflation best practices\, including how to create a classic string-of-pearls helium arch that perfectly connects your towers. Expect a dynamic blend of technique and creativity that leaves you with a sellable\, on-trend design blueprint. \n🍪 With Mary\, you’ll master Balloon Studio LA’s most-requested birthday techniques as she guides you through building personalized names using shaped wire and balloons\, transforming the rainbow technique into the cutest cookie cake\, and manipulating TT-260s with distortion\, twisting\, and flattening to create adorable chocolate chip accents. \nThen it’s time to turn up the heat! You’ll break into teams for the ultimate Balloon Bake Off\, where you’ll put your brand-new skills to the test and impress the judges with your “sweet” creations. Prizes\, bragging rights\, and plenty of fun are all on the line! \nPerfect for all skill levels\, whether you’re just getting started or ready to take your artistry to the next level. \nSign up today! Tickets are $160/each and available at https://laballoons.com/pages/balloon-class-the-great-balloon-bakeoff-birthday-edition
URL:https://balloonindustrycalendar.com/event/class-the-great-balloon-bake-off-birthday-edition-la-area
LOCATION:Embassy Suites Hotel – Glendale\, CA\, 800 N Central Ave.\, Glendale\, CA\, 91203\, United States
CATEGORIES:Décor,In Person
ATTACH;FMTTYPE=image/png:https://balloonindustrycalendar.com/wp-content/uploads/2025/11/tuftex_3420_2025-12-09_f3629f31.png
ORGANIZER;CN="LA Balloons":MAILTO:Help@LABalloons.com
END:VEVENT
END:VCALENDAR