BEGIN:VCALENDAR
VERSION:2.0
PRODID:-//Balloon Industry Calendar - ECPv6.15.20//NONSGML v1.0//EN
CALSCALE:GREGORIAN
METHOD:PUBLISH
X-ORIGINAL-URL:https://balloonindustrycalendar.com
X-WR-CALDESC:Events for Balloon Industry Calendar
REFRESH-INTERVAL;VALUE=DURATION:PT1H
X-Robots-Tag:noindex
X-PUBLISHED-TTL:PT1H
BEGIN:VTIMEZONE
TZID:America/Phoenix
BEGIN:STANDARD
TZOFFSETFROM:-0700
TZOFFSETTO:-0700
TZNAME:MST
DTSTART:20240101T000000
END:STANDARD
END:VTIMEZONE
BEGIN:VEVENT
DTSTART;TZID=America/Phoenix:20251105T090000
DTEND;TZID=America/Phoenix:20251105T160000
DTSTAMP:20260420T125129
CREATED:20251020T235035Z
LAST-MODIFIED:20251021T002943Z
UID:1630-1762333200-1762358400@balloonindustrycalendar.com
SUMMARY:Sky's the Limit! Sleighing Corporate Balloon Decor
DESCRIPTION:Balloon World is bringing professional balloon decor education to Phoenix\, AZ this November!! \nCome learn from one of the emerging\, highly talented instructors Briana Silvio from Cape Cod\, Massachusetts. This class is sponsored by Betallic Sempertex and Balloon World Distributing. \nEach registration enters you into a raffle to win a Conwin Air Force 4 Inflator Machine (Valued at $499.00) \nLunch is provided for all attendees \nBring icy elegance to corporate balloon decor and let’s make PHX feel like the North Pole of party decor! This hands-on course\, you’ll learn techniques\, tools\, timelines\, pricing and design.\n• Ceiling Installs\n• Long-term Decor\n• Holiday Magic\n• Helium Tips & Tricks \n*if you have any dietary restrictions or food allergies- please contact Alex @ 1-800-238-5744 or alex@balloonworld.us directly after registering.
URL:https://balloonindustrycalendar.com/event/skys-the-limit-sleighing-corporate-balloon-decor
LOCATION:DoubleTree by Hilton Hotel Phoenix Tempe\, 2100 South Priest Drive\, Tempe\, AZ\, 85252\, United States
CATEGORIES:Business,Décor,Hands-on,In Person
ATTACH;FMTTYPE=image/png:https://balloonindustrycalendar.com/wp-content/uploads/2025/10/skythelimit-phoenix.png
END:VEVENT
END:VCALENDAR