BEGIN:VCALENDAR
VERSION:2.0
PRODID:-//Balloon Industry Calendar - ECPv6.15.20//NONSGML v1.0//EN
CALSCALE:GREGORIAN
METHOD:PUBLISH
X-WR-CALNAME:Balloon Industry Calendar
X-ORIGINAL-URL:https://balloonindustrycalendar.com
X-WR-CALDESC:Events for Balloon Industry Calendar
REFRESH-INTERVAL;VALUE=DURATION:PT1H
X-Robots-Tag:noindex
X-PUBLISHED-TTL:PT1H
BEGIN:VTIMEZONE
TZID:America/New_York
BEGIN:DAYLIGHT
TZOFFSETFROM:-0500
TZOFFSETTO:-0400
TZNAME:EDT
DTSTART:20240310T070000
END:DAYLIGHT
BEGIN:STANDARD
TZOFFSETFROM:-0400
TZOFFSETTO:-0500
TZNAME:EST
DTSTART:20241103T060000
END:STANDARD
BEGIN:DAYLIGHT
TZOFFSETFROM:-0500
TZOFFSETTO:-0400
TZNAME:EDT
DTSTART:20250309T070000
END:DAYLIGHT
BEGIN:STANDARD
TZOFFSETFROM:-0400
TZOFFSETTO:-0500
TZNAME:EST
DTSTART:20251102T060000
END:STANDARD
BEGIN:DAYLIGHT
TZOFFSETFROM:-0500
TZOFFSETTO:-0400
TZNAME:EDT
DTSTART:20260308T070000
END:DAYLIGHT
BEGIN:STANDARD
TZOFFSETFROM:-0400
TZOFFSETTO:-0500
TZNAME:EST
DTSTART:20261101T060000
END:STANDARD
END:VTIMEZONE
BEGIN:VTIMEZONE
TZID:America/Los_Angeles
BEGIN:DAYLIGHT
TZOFFSETFROM:-0800
TZOFFSETTO:-0700
TZNAME:PDT
DTSTART:20240310T100000
END:DAYLIGHT
BEGIN:STANDARD
TZOFFSETFROM:-0700
TZOFFSETTO:-0800
TZNAME:PST
DTSTART:20241103T090000
END:STANDARD
BEGIN:DAYLIGHT
TZOFFSETFROM:-0800
TZOFFSETTO:-0700
TZNAME:PDT
DTSTART:20250309T100000
END:DAYLIGHT
BEGIN:STANDARD
TZOFFSETFROM:-0700
TZOFFSETTO:-0800
TZNAME:PST
DTSTART:20251102T090000
END:STANDARD
BEGIN:DAYLIGHT
TZOFFSETFROM:-0800
TZOFFSETTO:-0700
TZNAME:PDT
DTSTART:20260308T100000
END:DAYLIGHT
BEGIN:STANDARD
TZOFFSETFROM:-0700
TZOFFSETTO:-0800
TZNAME:PST
DTSTART:20261101T090000
END:STANDARD
END:VTIMEZONE
BEGIN:VTIMEZONE
TZID:America/Chicago
BEGIN:DAYLIGHT
TZOFFSETFROM:-0600
TZOFFSETTO:-0500
TZNAME:CDT
DTSTART:20240310T080000
END:DAYLIGHT
BEGIN:STANDARD
TZOFFSETFROM:-0500
TZOFFSETTO:-0600
TZNAME:CST
DTSTART:20241103T070000
END:STANDARD
BEGIN:DAYLIGHT
TZOFFSETFROM:-0600
TZOFFSETTO:-0500
TZNAME:CDT
DTSTART:20250309T080000
END:DAYLIGHT
BEGIN:STANDARD
TZOFFSETFROM:-0500
TZOFFSETTO:-0600
TZNAME:CST
DTSTART:20251102T070000
END:STANDARD
BEGIN:DAYLIGHT
TZOFFSETFROM:-0600
TZOFFSETTO:-0500
TZNAME:CDT
DTSTART:20260308T080000
END:DAYLIGHT
BEGIN:STANDARD
TZOFFSETFROM:-0500
TZOFFSETTO:-0600
TZNAME:CST
DTSTART:20261101T070000
END:STANDARD
END:VTIMEZONE
BEGIN:VTIMEZONE
TZID:America/Denver
BEGIN:DAYLIGHT
TZOFFSETFROM:-0700
TZOFFSETTO:-0600
TZNAME:MDT
DTSTART:20240310T090000
END:DAYLIGHT
BEGIN:STANDARD
TZOFFSETFROM:-0600
TZOFFSETTO:-0700
TZNAME:MST
DTSTART:20241103T080000
END:STANDARD
BEGIN:DAYLIGHT
TZOFFSETFROM:-0700
TZOFFSETTO:-0600
TZNAME:MDT
DTSTART:20250309T090000
END:DAYLIGHT
BEGIN:STANDARD
TZOFFSETFROM:-0600
TZOFFSETTO:-0700
TZNAME:MST
DTSTART:20251102T080000
END:STANDARD
BEGIN:DAYLIGHT
TZOFFSETFROM:-0700
TZOFFSETTO:-0600
TZNAME:MDT
DTSTART:20260308T090000
END:DAYLIGHT
BEGIN:STANDARD
TZOFFSETFROM:-0600
TZOFFSETTO:-0700
TZNAME:MST
DTSTART:20261101T080000
END:STANDARD
END:VTIMEZONE
BEGIN:VTIMEZONE
TZID:America/Kentucky/Louisville
BEGIN:DAYLIGHT
TZOFFSETFROM:-0500
TZOFFSETTO:-0400
TZNAME:EDT
DTSTART:20240310T070000
END:DAYLIGHT
BEGIN:STANDARD
TZOFFSETFROM:-0400
TZOFFSETTO:-0500
TZNAME:EST
DTSTART:20241103T060000
END:STANDARD
BEGIN:DAYLIGHT
TZOFFSETFROM:-0500
TZOFFSETTO:-0400
TZNAME:EDT
DTSTART:20250309T070000
END:DAYLIGHT
BEGIN:STANDARD
TZOFFSETFROM:-0400
TZOFFSETTO:-0500
TZNAME:EST
DTSTART:20251102T060000
END:STANDARD
BEGIN:DAYLIGHT
TZOFFSETFROM:-0500
TZOFFSETTO:-0400
TZNAME:EDT
DTSTART:20260308T070000
END:DAYLIGHT
BEGIN:STANDARD
TZOFFSETFROM:-0400
TZOFFSETTO:-0500
TZNAME:EST
DTSTART:20261101T060000
END:STANDARD
END:VTIMEZONE
BEGIN:VEVENT
DTSTART;TZID=America/New_York:20250814T083000
DTEND;TZID=America/New_York:20250814T160000
DTSTAMP:20260425T174910
CREATED:20250624T003009Z
LAST-MODIFIED:20250715T215339Z
UID:790-1755160200-1755187200@balloonindustrycalendar.com
SUMMARY:Anagram Academy Fall Semester Tour Featuring Jill Shortreed - Boucherville\, QC
DESCRIPTION:Fall is full of opportunity from back-to-school and football season to pumpkin patches and Halloween parties. We’ll show you how to turn these moments into money-making decor with adaptable\, sellable designs. \nWhat you can expect: \n\nPrep Rally Kickoff Master framing inflation\, and efficient solo installs.\nLunch & Learn Build your business with Jill’s Playbook during our “Half-Time Huddle.”\nSpooky Season Dive into Halloween balloon murals\, wreaths and organics with the Pumpkin King and friends.\nHands-On Training plus swag\, networking\, and real-world skills you can use right away.\n\nIn Partnership with Hi-Float and SKS Novelty. \n***First 20 people to register for this class receive EXCLUSIVE Anagram MERCH!
URL:https://balloonindustrycalendar.com/event/anagram-academy-fall-semester-tour-boucherville-qc
LOCATION:SKS Novelty (Boucherville)\, 1351 J Rue Ampere\, Boucherville\, Quebec\, J4B 5Z5\, Canada
CATEGORIES:Business,Décor,Hands-on,In Person
ATTACH;FMTTYPE=image/jpeg:https://balloonindustrycalendar.com/wp-content/uploads/2025/06/graphic-for-tour-scaled.jpeg
ORGANIZER;CN="Jill Shortreed/Anagram Balloons":MAILTO:shortrej@anagramintl.com
END:VEVENT
BEGIN:VEVENT
DTSTART;TZID=America/New_York:20250812T083000
DTEND;TZID=America/New_York:20250812T160000
DTSTAMP:20260425T174910
CREATED:20250624T002641Z
LAST-MODIFIED:20250715T215414Z
UID:786-1754987400-1755014400@balloonindustrycalendar.com
SUMMARY:Anagram Academy Fall Semester Tour Featuring Isabella Libasci - Brampton\, ON
DESCRIPTION:Fall is full of opportunity from back-to-school and football season to pumpkin patches and Halloween parties. We’ll show you how to turn these moments into money-making decor with adaptable\, sellable designs. \nWhat you can expect: \n\nPrep Rally Kickoff Master framing inflation\, and efficient solo installs.\nLunch & Learn Build your business with Jill’s Playbook during our “Half-Time Huddle.”\nSpooky Season Dive into Halloween balloon murals\, wreaths and organics with the Pumpkin King and friends.\nHands-On Training plus swag\, networking\, and real-world skills you can use right away.\n\nIn Partnership with Hi-Float and SKS Novelty. \n***First 20 people to register for this class receive EXCLUSIVE Anagram MERCH!
URL:https://balloonindustrycalendar.com/event/anagram-academy-fall-semester-tour-brampton-on
LOCATION:Royal Canadian Legion Branch #609\, 1133 Queen St. E\, Brampton\, Ontario\, L6T 4E2\, Canada
CATEGORIES:Business,Décor,Hands-on,In Person
ATTACH;FMTTYPE=image/jpeg:https://balloonindustrycalendar.com/wp-content/uploads/2025/06/graphic-for-tour-scaled.jpeg
ORGANIZER;CN="Jill Shortreed/Anagram Balloons":MAILTO:shortrej@anagramintl.com
END:VEVENT
BEGIN:VEVENT
DTSTART;TZID=America/Los_Angeles:20250722T083000
DTEND;TZID=America/Los_Angeles:20250722T160000
DTSTAMP:20260425T174910
CREATED:20250620T151246Z
LAST-MODIFIED:20250715T215445Z
UID:767-1753173000-1753200000@balloonindustrycalendar.com
SUMMARY:Anagram Academy Fall Semester Tour Featuring Alejandra Orta - Cerritos\, CA
DESCRIPTION:Fall is full of opportunity from back-to-school and football season to pumpkin patches and Halloween parties. We’ll show you how to turn these moments into money-making decor with adaptable\, sellable designs. \nWhat you can expect: \n\nPrep Rally Kickoff Master framing inflation\, and efficient solo installs.\nLunch & Learn Build your business with Jill’s Playbook during our “Half-Time Huddle.”\nSpooky Season Dive into Halloween balloon murals\, wreaths and organics with the Pumpkin King and friends.\nHands-On Training plus swag\, networking\, and real-world skills you can use right away.\n\nIn Partnership with Hi-Float and Mayflower Distributing. \n***First 20 people to register for this class receive EXCLUSIVE Anagram MERCH!
URL:https://balloonindustrycalendar.com/event/anagram-academy-fall-semester-tour
LOCATION:Sheraton Cerritos Hotel\, 12725 Center Court Drive\, Cerritos\, CA\, 90703\, United States
CATEGORIES:Business,Décor,Hands-on,In Person
ATTACH;FMTTYPE=image/jpeg:https://balloonindustrycalendar.com/wp-content/uploads/2025/06/graphic-for-tour-scaled.jpeg
ORGANIZER;CN="Jill Shortreed/Anagram Balloons":MAILTO:shortrej@anagramintl.com
END:VEVENT
BEGIN:VEVENT
DTSTART;TZID=America/Chicago:20250715T100000
DTEND;TZID=America/Chicago:20250715T120000
DTSTAMP:20260425T174910
CREATED:20250715T225727Z
LAST-MODIFIED:20250715T230044Z
UID:839-1752573600-1752580800@balloonindustrycalendar.com
SUMMARY:TUFTEX TUESDAY: Dallas (All American Balloons)
DESCRIPTION:TUFTEX Easy Delivery: \nVanessa Payne of Daddy Pop Balloons\, Dallas\, is leading the morning at All American Balloons and sharing her best balloon techniques & processes. She will teach her hottest selling delivery and grab + go designs that can be used for corporate or consumer clients. Let’s take your business efficency and designs to the next level! \n\nRegister now to secure your spot: www.allamericanballoons.net \n**Registration fee will be returned in the form of store credit after you attend the class
URL:https://balloonindustrycalendar.com/event/tuftex-tuesday-dallas-all-american-balloons-2
LOCATION:All American Balloons (Arlington)\, 2406 E Randol Mill Road\, Arlington\, TX\, 76001\, United States
CATEGORIES:Business,Décor,In Person
END:VEVENT
BEGIN:VEVENT
DTSTART;VALUE=DATE:20250713
DTEND;VALUE=DATE:20250718
DTSTAMP:20260425T174910
CREATED:20250611T235532Z
LAST-MODIFIED:20250611T235532Z
UID:750-1752364800-1752796799@balloonindustrycalendar.com
SUMMARY:The Bling Bling Jam Convention
DESCRIPTION:Only $375 before June 15! \nThe Bling Bling Jam is not just a balloon convention — it’s a full-on creative explosion of color\, talent\, and innovation in the heart of Las Vegas. Since its founding\, this vibrant\, international event has brought together balloon artists\, twisters\, decorators\, and entertainers of all levels for five unforgettable days of learning\, networking\, and performance. \nWhy Attend Bling Bling Jam? \n Hands-On Education – Learn from top instructors from around the world through jam sessions\, decor classes\, stage builds\, and advanced design techniques. Classes range from beginner to expert\, including entertainment\, costume building\, twisting\, and decor. \n Diverse Global Community – Artists from across the U.S. and around the world gather here. It’s a powerful platform to connect\, collaborate\, and get inspired. \n Competitions & Creativity – Take part in high-energy competitions like the Dirty Balloon Contest\, Balloon Fashion Show\, and team sculpture builds. These crowd-favorite events fuel imagination and friendly competition. \n Virtual Replay & Reach – Can’t catch everything live? No problem. Attendees gain access to a virtual replay library so you can revisit classes and moments after the convention. This also expands the event’s reach far beyond Vegas. \n Sponsors & Brands – Featuring top balloon brands and sponsors like Elitex\, All American Balloons\, and many more\, attendees get the chance to try the latest products\, tools\, and designs in the balloon world. \n Energy Like No Other – Bling Bling Jam is known for its fun\, inclusive atmosphere where everyone—from first-timers to seasoned professionals—is welcomed\, supported\, and celebrated. \nWhether you’re a balloon twister\, decorator\, party entertainer\, or someone who just loves the world of balloon art\, Bling Bling Jam is the can’t-miss event of the year.
URL:https://balloonindustrycalendar.com/event/the-bling-bling-jam-convention
LOCATION:Binion’s/Hotel Apache\, 128 Fremont St\, Las Vegas\, 89101
CATEGORIES:Business,Décor,In Person,Multi-day,Twisting,Virtual
ORGANIZER;CN="Steve Klein":MAILTO:mrballoonwizard@gmail.com
END:VEVENT
BEGIN:VEVENT
DTSTART;VALUE=DATE:20250628
DTEND;VALUE=DATE:20250701
DTSTAMP:20260425T174910
CREATED:20250109T005343Z
LAST-MODIFIED:20250212T014448Z
UID:195-1751068800-1751327999@balloonindustrycalendar.com
SUMMARY:Balloon Coach Summer Tour Retreat: Texas
DESCRIPTION:$550 for Current Mastermind Members \nIndividuals responsible for lodging plus meals not included in ticket. \nContinental breakfast\, lunch\, and dinner are included int he registration for three days.
URL:https://balloonindustrycalendar.com/event/balloon-coach-summer-2025-retreat-waco-texas
LOCATION:TBD
CATEGORIES:Business,Décor,In Person,Multi-day
ORGANIZER;CN="Balloon Coach":MAILTO:joette@ballooncoach.com
END:VEVENT
BEGIN:VEVENT
DTSTART;TZID=America/Los_Angeles:20250623T100000
DTEND;TZID=America/Los_Angeles:20250623T160000
DTSTAMP:20260425T174910
CREATED:20250109T004754Z
LAST-MODIFIED:20250212T014536Z
UID:189-1750672800-1750694400@balloonindustrycalendar.com
SUMMARY:Balloon Coach Summer Tour Class: Los Angeles\, California
DESCRIPTION:$150 for Current Mastermind Members \nActivities Include\n\n\n\n\n\nNetworking\nHot seat\nOvercoming Obstacles\nBalloon Drops\nPop Drops\nCeiling Decor\nLUNCH will be provided.
URL:https://balloonindustrycalendar.com/event/balloon-coach-summer-2025-los-angeles-california-class
LOCATION:TBD
CATEGORIES:Business,Décor,In Person
ORGANIZER;CN="Balloon Coach":MAILTO:joette@ballooncoach.com
END:VEVENT
BEGIN:VEVENT
DTSTART;TZID=America/Los_Angeles:20250622T180000
DTEND;TZID=America/Los_Angeles:20250622T200000
DTSTAMP:20260425T174910
CREATED:20250109T004634Z
LAST-MODIFIED:20250212T014213Z
UID:187-1750615200-1750622400@balloonindustrycalendar.com
SUMMARY:Balloon Coach Summer Tour Mastermind Meetup: Los Angeles\, California
DESCRIPTION:Mastermind members FREE \nAdditional events: \n\nNetwork\nOpen Q & A\nDinner (individuals pay for their food)
URL:https://balloonindustrycalendar.com/event/balloon-coach-summer-2025-los-angeles-california-dinner
LOCATION:TBD
CATEGORIES:Business,Décor,In Person
ORGANIZER;CN="Balloon Coach":MAILTO:joette@ballooncoach.com
END:VEVENT
BEGIN:VEVENT
DTSTART;VALUE=DATE:20250617
DTEND;VALUE=DATE:20250620
DTSTAMP:20260425T174910
CREATED:20250109T003919Z
LAST-MODIFIED:20250212T014547Z
UID:184-1750118400-1750377599@balloonindustrycalendar.com
SUMMARY:Balloon Coach Summer Tour Retreat: Oregon
DESCRIPTION:$550 for current Mastermind members \nIndividuals responsible for their lodging plus meals not included in the ticket \nContinental breakfast\, lunch\, and dinner are included in the registration for 3 days.
URL:https://balloonindustrycalendar.com/event/balloon-coach-summer-2025-retreat
LOCATION:Inn at Otter Crest\, 301 Otter Crest Dr\, Otter Rock\, OR\, 97369\, United States
CATEGORIES:Business,Décor,In Person,Multi-day
ORGANIZER;CN="Balloon Coach":MAILTO:joette@ballooncoach.com
END:VEVENT
BEGIN:VEVENT
DTSTART;TZID=America/Los_Angeles:20250616T100000
DTEND;TZID=America/Los_Angeles:20250616T160000
DTSTAMP:20260425T174910
CREATED:20250109T003640Z
LAST-MODIFIED:20250212T014554Z
UID:182-1750068000-1750089600@balloonindustrycalendar.com
SUMMARY:Balloon Coach Summer Tour Class: Portland\, Oregon
DESCRIPTION:$150 for Current Mastermind Members \nActivities Include\n\n\n\n\n\nNetworking\nHot seat\nOvercoming Obstacles\nBalloon Drops\nPop Drops\nCeiling Decor\nLUNCH will be provided.
URL:https://balloonindustrycalendar.com/event/balloon-coach-summer-2025-portland-oregon-class
LOCATION:TBD
CATEGORIES:Business,Décor,In Person
ORGANIZER;CN="Balloon Coach":MAILTO:joette@ballooncoach.com
END:VEVENT
BEGIN:VEVENT
DTSTART;TZID=America/Denver:20250612T190000
DTEND;TZID=America/Denver:20250612T210000
DTSTAMP:20260425T174910
CREATED:20250212T014039Z
LAST-MODIFIED:20250212T014039Z
UID:360-1749754800-1749762000@balloonindustrycalendar.com
SUMMARY:Balloon Coach Summer Tour Mastermind Meetup: Yellowstone
DESCRIPTION:Mastermind members FREE \nAdditional events: \n\nNetwork\nOpen Q & A\nDinner (individuals pay for their food)
URL:https://balloonindustrycalendar.com/event/balloon-coach-summer-tour-mastermind-meetup-yellowstone
LOCATION:TBD
CATEGORIES:Business,Décor,In Person
ORGANIZER;CN="Balloon Coach":MAILTO:joette@ballooncoach.com
END:VEVENT
BEGIN:VEVENT
DTSTART;TZID=America/Chicago:20250610T190000
DTEND;TZID=America/Chicago:20250610T210000
DTSTAMP:20260425T174910
CREATED:20250212T013843Z
LAST-MODIFIED:20250212T013843Z
UID:358-1749582000-1749589200@balloonindustrycalendar.com
SUMMARY:Balloon Coach Mastermind Meetup: Mount Rushmore
DESCRIPTION:Mastermind members FREE \nAdditional events: \n\nNetwork\nOpen Q & A\nDinner (individuals pay for their food)
URL:https://balloonindustrycalendar.com/event/balloon-coach-mastermind-meetup-mount-rushmore
LOCATION:TBD
CATEGORIES:Business,Décor,In Person
ORGANIZER;CN="Balloon Coach":MAILTO:joette@ballooncoach.com
END:VEVENT
BEGIN:VEVENT
DTSTART;TZID=America/Chicago:20250609T120000
DTEND;TZID=America/Chicago:20250609T140000
DTSTAMP:20260425T174910
CREATED:20250212T013637Z
LAST-MODIFIED:20250212T014402Z
UID:356-1749470400-1749477600@balloonindustrycalendar.com
SUMMARY:Balloon Coach Summer Tour Mastermind Meetup: Sioux Falls\, South Dakota
DESCRIPTION:Mastermind members FREE \nAdditional events: \n\nNetwork\nOpen Q & A\nLunch (individuals pay for their food)
URL:https://balloonindustrycalendar.com/event/balloon-coach-summer-tour-mastermind-meetup-sioux-falls-south-dakota
LOCATION:TBD
CATEGORIES:Business,Décor,In Person
ORGANIZER;CN="Balloon Coach":MAILTO:joette@ballooncoach.com
END:VEVENT
BEGIN:VEVENT
DTSTART;TZID=America/Chicago:20250608T190000
DTEND;TZID=America/Chicago:20250608T210000
DTSTAMP:20260425T174910
CREATED:20250212T013244Z
LAST-MODIFIED:20250212T014257Z
UID:351-1749409200-1749416400@balloonindustrycalendar.com
SUMMARY:Balloon Coach Summer Tour Mastermind Meetup: Omaha\, Nebraska
DESCRIPTION:Mastermind members FREE \nAdditional events: \n\nTour Omaha Balloon home-based business\nNetwork\nOpen Q & A\nDinner (individuals pay for their food)
URL:https://balloonindustrycalendar.com/event/balloon-coach-summer-tour-mastermind-meetup-omaha-nebraska
LOCATION:TBA
CATEGORIES:Business,Décor,In Person
ORGANIZER;CN="Balloon Coach":MAILTO:joette@ballooncoach.com
END:VEVENT
BEGIN:VEVENT
DTSTART;TZID=America/Chicago:20250608T130000
DTEND;TZID=America/Chicago:20250608T150000
DTSTAMP:20260425T174910
CREATED:20250212T013008Z
LAST-MODIFIED:20250212T014309Z
UID:348-1749387600-1749394800@balloonindustrycalendar.com
SUMMARY:Balloon Coach Summer Tour Mastermind Meetup: Des Moines\, Iowa
DESCRIPTION:Mastermind members FREE \nAdditional events: \n\nTour Squeak Balloon & Decor\nNetwork\nOpen Q & A\nLunch (individuals pay for their food)
URL:https://balloonindustrycalendar.com/event/balloon-coach-summer-tour-mastermind-meetup-des-moines-iowa
LOCATION:Squeak Balloon & Decor\, 516 SW 3rd St\, Ankeny\, IA\, 50023\, United States
CATEGORIES:Business,Décor,In Person
ORGANIZER;CN="Balloon Coach":MAILTO:joette@ballooncoach.com
END:VEVENT
BEGIN:VEVENT
DTSTART;TZID=America/Chicago:20250606T170000
DTEND;TZID=America/Chicago:20250606T190000
DTSTAMP:20260425T174910
CREATED:20250212T012622Z
LAST-MODIFIED:20250212T014427Z
UID:346-1749229200-1749236400@balloonindustrycalendar.com
SUMMARY:Balloon Coach Summer Tour Mastermind Meetup: Schaumburg\, Illinois
DESCRIPTION:Mastermind members FREE \nAdditional events: \n\nNetwork\nOpen Q & A\nDinner (individuals pay for their food)
URL:https://balloonindustrycalendar.com/event/balloon-coach-summer-tour-mastermind-meetup-schaumburg-illinois
LOCATION:TBD
CATEGORIES:Business,Décor,In Person
ORGANIZER;CN="Balloon Coach":MAILTO:joette@ballooncoach.com
END:VEVENT
BEGIN:VEVENT
DTSTART;TZID=America/Chicago:20250606T100000
DTEND;TZID=America/Chicago:20250606T160000
DTSTAMP:20260425T174910
CREATED:20250109T003520Z
LAST-MODIFIED:20250212T014603Z
UID:179-1749204000-1749225600@balloonindustrycalendar.com
SUMMARY:Balloon Coach Summer Tour Class: Schaumburg\, Illinois
DESCRIPTION:$150 for Current Mastermind Members \nActivities Include\n\n\n\n\n\nNetworking\nHot seat\nOvercoming Obstacles\nBalloon Drops\nPop Drops\nCeiling Decor\nLUNCH will be provided.
URL:https://balloonindustrycalendar.com/event/balloon-coach-summer-2025-shaumburg-illinois-class
LOCATION:TBD
CATEGORIES:Business,Décor,In Person
ORGANIZER;CN="Balloon Coach":MAILTO:joette@ballooncoach.com
END:VEVENT
BEGIN:VEVENT
DTSTART;TZID=America/Kentucky/Louisville:20250604T100000
DTEND;TZID=America/Kentucky/Louisville:20250604T160000
DTSTAMP:20260425T174910
CREATED:20250109T003402Z
LAST-MODIFIED:20250212T014609Z
UID:176-1749031200-1749052800@balloonindustrycalendar.com
SUMMARY:Balloon Coach Summer Tour Class: Louisville\, Kentucky
DESCRIPTION:$150 for Current Mastermind Members \nActivities Include\n\n\n\n\n\nNetworking\nHot seat\nOvercoming Obstacles\nBalloon Drops\nPop Drops\nCeiling Decor\nLUNCH will be provided.
URL:https://balloonindustrycalendar.com/event/balloon-coach-summer-2025-louisville-kentucky-class
LOCATION:Ah\, Whatta ‘Bout Mimi!\, 701 W Market St\, Louisville\, KY\, 40202\, United States
CATEGORIES:Business,Décor,In Person
ORGANIZER;CN="Balloon Coach":MAILTO:joette@ballooncoach.com
END:VEVENT
BEGIN:VEVENT
DTSTART;TZID=America/Chicago:20250603T180000
DTEND;TZID=America/Chicago:20250603T200000
DTSTAMP:20260425T174910
CREATED:20250212T012311Z
LAST-MODIFIED:20250212T014435Z
UID:344-1748973600-1748980800@balloonindustrycalendar.com
SUMMARY:Balloon Coach Summer Tour Mastermind Meetup: Louisville\, Kentucky
DESCRIPTION:Mastermind members FREE \nAdditional events: \n\nTour Ah\, Whatta “Bout Mimi shop\nNetwork\nOpen Q & A\nDinner (individuals pay for their food)
URL:https://balloonindustrycalendar.com/event/balloon-coach-summer-tour-mastermind-meetup-louisville-kentucky
LOCATION:Ah\, Whatta ‘Bout Mimi!\, 701 W Market St\, Louisville\, KY\, 40202\, United States
CATEGORIES:Business,Décor,In Person
ORGANIZER;CN="Balloon Coach":MAILTO:joette@ballooncoach.com
END:VEVENT
BEGIN:VEVENT
DTSTART;TZID=America/New_York:20250602T100000
DTEND;TZID=America/New_York:20250602T160000
DTSTAMP:20260425T174910
CREATED:20250109T003001Z
LAST-MODIFIED:20250212T014617Z
UID:174-1748858400-1748880000@balloonindustrycalendar.com
SUMMARY:Balloon Coach Summer Tour Class: Atlanta\, Georgia
DESCRIPTION:$159 for Current Mastermind Members \nActivities Include\n\n\n\n\n\nNetworking\nHot seat\nOvercoming Obstacles\nBalloon Drops\nPop Drops\nCeiling Decor\nLUNCH will be provided.
URL:https://balloonindustrycalendar.com/event/balloon-coach-summer-2025-atlanta-georgia-class
LOCATION:Marriot Atlanta Northeast Emory Area\, 2000 Century Boulevard NE\, Atlanta\, GA\, 30345\, United States
CATEGORIES:Business,Décor,In Person
ORGANIZER;CN="Balloon Coach":MAILTO:joette@ballooncoach.com
END:VEVENT
BEGIN:VEVENT
DTSTART;TZID=America/New_York:20250601T180000
DTEND;TZID=America/New_York:20250601T200000
DTSTAMP:20260425T174910
CREATED:20250109T002827Z
LAST-MODIFIED:20250212T014630Z
UID:171-1748800800-1748808000@balloonindustrycalendar.com
SUMMARY:Balloon Coach Summer Tour Mastermind Meetup: Atlanta\, Georgia
DESCRIPTION:Mastermind members FREE \nAdditional events: \n\nTour Balloonacy Studio\nNetwork\nOpen Q & A\nDinner (individuals pay for their food)
URL:https://balloonindustrycalendar.com/event/balloon-coach-summer-2025-atlanta-georgia-meetup-dinner
LOCATION:Balloonacy – Flower by Holland\, 5400 New Peachtree Road\, Chamblee\, GA\, 30341\, United States
CATEGORIES:Business,Décor,In Person
ORGANIZER;CN="Balloon Coach":MAILTO:joette@ballooncoach.com
END:VEVENT
BEGIN:VEVENT
DTSTART;TZID=America/New_York:20250524T100000
DTEND;TZID=America/New_York:20250524T180000
DTSTAMP:20260425T174910
CREATED:20250403T144855Z
LAST-MODIFIED:20250403T144855Z
UID:614-1748080800-1748109600@balloonindustrycalendar.com
SUMMARY:TUFTEX + AO Balloons - Masterclass in Akron\, PA
DESCRIPTION:Hands-On Master Class with AO Balloons\, Sponsored by TUFTEX: Learn all the things necessary to begin in the balloons industry\, such as basic balloon techniques\, garlands\, pricing\, and more! This class is perfect for those just beginning but any levels can benefit from the tips and tricks shared. All supplies included\, lunch is provided. \nHow to get your spot and for more information: Private message to Instagram @ao.balloons \n\nLocation:  Akron\, PA
URL:https://balloonindustrycalendar.com/event/tuftex-ao-balloons-masterclass-in-akron-pa
LOCATION:Akron\, PA\, Akron\, PA\, United States
CATEGORIES:Business,Décor,In Person
END:VEVENT
BEGIN:VEVENT
DTSTART;VALUE=DATE:20250422
DTEND;VALUE=DATE:20250425
DTSTAMP:20260425T174910
CREATED:20250213T115625Z
LAST-MODIFIED:20250213T115625Z
UID:370-1745280000-1745539199@balloonindustrycalendar.com
SUMMARY:ELITEX Exclusive Marketing Summit 2025
DESCRIPTION:Early Bird Pre-sale $425
URL:https://balloonindustrycalendar.com/event/elitex-exclusive-marketing-summit-2025
LOCATION:Upstairs Atlanta\, 750 Glenwood Ave SE Bldg 100\, Atlanta\, GA\, 30316\, United States
CATEGORIES:Business,Décor,In Person,Multi-day
END:VEVENT
BEGIN:VEVENT
DTSTART;TZID=America/New_York:20250316T100000
DTEND;TZID=America/New_York:20250316T170000
DTSTAMP:20260425T174910
CREATED:20250206T212140Z
LAST-MODIFIED:20250206T212403Z
UID:317-1742119200-1742144400@balloonindustrycalendar.com
SUMMARY:Balloon Class (East Windsor\, CT)
DESCRIPTION:Early-bird registration: $275 \nThis class is for all skill levels.  We will create classic decor items along with organic decor items. \n\nHands on training:\n\n– organic balloon designs\n– classic balloon decor\n\n\nBalloon Recipes\nPricing Decor and Business Essentials\nLunch provided\nSupplies Provided\n\n 
URL:https://balloonindustrycalendar.com/event/balloon-class-east-windsor-ct
LOCATION:CAD Luxury Event Venue\, 122 Prospect Hill Rd\, Ste 10\, East Windsor\, CT\, 06088\, United States
CATEGORIES:Business,Décor,In Person
ORGANIZER;CN="April Williams et al":MAILTO:info@cadluxuryvenue.com
END:VEVENT
BEGIN:VEVENT
DTSTART;TZID=America/New_York:20250218T180000
DTEND;TZID=America/New_York:20250218T190000
DTSTAMP:20260425T174910
CREATED:20250211T165438Z
LAST-MODIFIED:20250212T014911Z
UID:322-1739901600-1739905200@balloonindustrycalendar.com
SUMMARY:ALOFT: "Profitable Balloon Services" with Dolly Hilario & Eduardo Mena Ramos
DESCRIPTION:Free to premium members of ALOFT.
URL:https://balloonindustrycalendar.com/event/aloft-profitable-balloon-services-with-dolly-hilario-eduardo-mena-ramos
LOCATION:Virtual
CATEGORIES:Business,Décor,Virtual
ORGANIZER;CN="FLOAT":MAILTO:info@floatconvention.com
END:VEVENT
BEGIN:VEVENT
DTSTART;VALUE=DATE:20250113
DTEND;VALUE=DATE:20250116
DTSTAMP:20260425T174910
CREATED:20241231T201940Z
LAST-MODIFIED:20250111T191136Z
UID:51-1736726400-1736985599@balloonindustrycalendar.com
SUMMARY:FULCRUM
DESCRIPTION:
URL:https://balloonindustrycalendar.com/event/fulcrum
LOCATION:The St Louis Airport Marriott Hotel\, 10700 Pear Tree Lane\, St. Louis\, MO\, 63134\, United States
CATEGORIES:Business,Décor,In Person,Multi-day
ORGANIZER;CN="FLOAT":MAILTO:info@floatconvention.com
END:VEVENT
END:VCALENDAR