BEGIN:VCALENDAR
VERSION:2.0
PRODID:-//Balloon Industry Calendar - ECPv6.15.20//NONSGML v1.0//EN
CALSCALE:GREGORIAN
METHOD:PUBLISH
X-WR-CALNAME:Balloon Industry Calendar
X-ORIGINAL-URL:https://balloonindustrycalendar.com
X-WR-CALDESC:Events for Balloon Industry Calendar
REFRESH-INTERVAL;VALUE=DURATION:PT1H
X-Robots-Tag:noindex
X-PUBLISHED-TTL:PT1H
BEGIN:VTIMEZONE
TZID:America/New_York
BEGIN:DAYLIGHT
TZOFFSETFROM:-0500
TZOFFSETTO:-0400
TZNAME:EDT
DTSTART:20250309T070000
END:DAYLIGHT
BEGIN:STANDARD
TZOFFSETFROM:-0400
TZOFFSETTO:-0500
TZNAME:EST
DTSTART:20251102T060000
END:STANDARD
BEGIN:DAYLIGHT
TZOFFSETFROM:-0500
TZOFFSETTO:-0400
TZNAME:EDT
DTSTART:20260308T070000
END:DAYLIGHT
BEGIN:STANDARD
TZOFFSETFROM:-0400
TZOFFSETTO:-0500
TZNAME:EST
DTSTART:20261101T060000
END:STANDARD
BEGIN:DAYLIGHT
TZOFFSETFROM:-0500
TZOFFSETTO:-0400
TZNAME:EDT
DTSTART:20270314T070000
END:DAYLIGHT
BEGIN:STANDARD
TZOFFSETFROM:-0400
TZOFFSETTO:-0500
TZNAME:EST
DTSTART:20271107T060000
END:STANDARD
END:VTIMEZONE
BEGIN:VEVENT
DTSTART;VALUE=DATE:20261020
DTEND;VALUE=DATE:20261023
DTSTAMP:20260421T090914
CREATED:20260323T212300Z
LAST-MODIFIED:20260330T161214Z
UID:2256-1792454400-1792713599@balloonindustrycalendar.com
SUMMARY:International Balloon Convention
DESCRIPTION:BC is where the world of balloon art comes alive. Experience three powerful days of hands-on classes\, world-renowned international instructors\, cutting-edge techniques\, and high-impact networking with industry leaders from around the globe. \nNow in its second edition\, IBC takes over Miami\, uniting the global balloon community in one vibrant city for an unforgettable experience of creativity\, innovation\, and connection. \nFollow the link for all the details and pricing.
URL:https://balloonindustrycalendar.com/event/international-balloon-convention
LOCATION:Hotel Hilton Miami Airport Blue Lagoon\, 5101 Blue Lagoon Drive\, Miami\, FL\, 33126\, United States
CATEGORIES:Décor,In Person,Multi-day,Twisting
ATTACH;FMTTYPE=image/png:https://balloonindustrycalendar.com/wp-content/uploads/2026/03/IBC-2026.png
END:VEVENT
END:VCALENDAR