BEGIN:VCALENDAR
VERSION:2.0
PRODID:-//Balloon Industry Calendar - ECPv6.15.20//NONSGML v1.0//EN
CALSCALE:GREGORIAN
METHOD:PUBLISH
X-WR-CALNAME:Balloon Industry Calendar
X-ORIGINAL-URL:https://balloonindustrycalendar.com
X-WR-CALDESC:Events for Balloon Industry Calendar
REFRESH-INTERVAL;VALUE=DURATION:PT1H
X-Robots-Tag:noindex
X-PUBLISHED-TTL:PT1H
BEGIN:VTIMEZONE
TZID:America/Chicago
BEGIN:DAYLIGHT
TZOFFSETFROM:-0600
TZOFFSETTO:-0500
TZNAME:CDT
DTSTART:20250309T080000
END:DAYLIGHT
BEGIN:STANDARD
TZOFFSETFROM:-0500
TZOFFSETTO:-0600
TZNAME:CST
DTSTART:20251102T070000
END:STANDARD
BEGIN:DAYLIGHT
TZOFFSETFROM:-0600
TZOFFSETTO:-0500
TZNAME:CDT
DTSTART:20260308T080000
END:DAYLIGHT
BEGIN:STANDARD
TZOFFSETFROM:-0500
TZOFFSETTO:-0600
TZNAME:CST
DTSTART:20261101T070000
END:STANDARD
BEGIN:DAYLIGHT
TZOFFSETFROM:-0600
TZOFFSETTO:-0500
TZNAME:CDT
DTSTART:20270314T080000
END:DAYLIGHT
BEGIN:STANDARD
TZOFFSETFROM:-0500
TZOFFSETTO:-0600
TZNAME:CST
DTSTART:20271107T070000
END:STANDARD
END:VTIMEZONE
BEGIN:VEVENT
DTSTART;TZID=America/Chicago:20260909T090000
DTEND;TZID=America/Chicago:20260909T160000
DTSTAMP:20260421T075211
CREATED:20260414T111400Z
LAST-MODIFIED:20260414T111400Z
UID:2877-1788944400-1788969600@balloonindustrycalendar.com
SUMMARY:All American's Texas Balloon Tour - Stop 4: Halloween Balloon Class Hosted By A.L. Party Balloons With Blondie Balloons
DESCRIPTION:All American’s Texas Balloon Tour is back in 2026! We have 5 unique class experiences planned with Jasmine Becnel of Blondie Balloons. \nStop 4: Hosted by A.L. Party Balloons in Conroe\, Texas \nCelebrate spooky season with this Halloween balloon class instructed by 2026 Float Designer of the Year\, Jasmine Becnel\, owner of Blondie Balloons. Join us on a road trip across Texas\, stopping in Conroe\, TX. This hands on\, full day class will feature Betallic and Sempertex balloons\, sponsored by Betallic. \nClass Details: \nLarge scale organics \n\nLarge scale organics\nCeiling install\nSpiders\nSpider webs\nPatterned double linking wall\nMummy sculpture\nHanging balloon tinsel ghosts\n\nHands On Class: \n\nIn person\nLunch provided\nMerch\nGiveaways\nNetworking & building relationships
URL:https://balloonindustrycalendar.com/event/all-americans-texas-balloon-tour-stop-4-halloween-balloon-class-hosted-by-a-l-party-balloons-with-blondie-balloons
LOCATION:A.L. Party Creations Warehouse\, 2208 N Frazier Unit B1\, Conroe\, Texas\, 77303\, United States
CATEGORIES:Décor,Hands-on,In Person
ATTACH;FMTTYPE=image/png:https://balloonindustrycalendar.com/wp-content/uploads/2026/04/Stop-4-AL-Party-Halloween-Class-IG-Post-1.png
ORGANIZER;CN="A.L. Party Balloons":MAILTO:alpartyballoons@gmail.com
END:VEVENT
END:VCALENDAR