BEGIN:VCALENDAR
VERSION:2.0
PRODID:-//Balloon Industry Calendar - ECPv6.15.20//NONSGML v1.0//EN
CALSCALE:GREGORIAN
METHOD:PUBLISH
X-WR-CALNAME:Balloon Industry Calendar
X-ORIGINAL-URL:https://balloonindustrycalendar.com
X-WR-CALDESC:Events for Balloon Industry Calendar
REFRESH-INTERVAL;VALUE=DURATION:PT1H
X-Robots-Tag:noindex
X-PUBLISHED-TTL:PT1H
BEGIN:VTIMEZONE
TZID:America/New_York
BEGIN:DAYLIGHT
TZOFFSETFROM:-0500
TZOFFSETTO:-0400
TZNAME:EDT
DTSTART:20250309T070000
END:DAYLIGHT
BEGIN:STANDARD
TZOFFSETFROM:-0400
TZOFFSETTO:-0500
TZNAME:EST
DTSTART:20251102T060000
END:STANDARD
BEGIN:DAYLIGHT
TZOFFSETFROM:-0500
TZOFFSETTO:-0400
TZNAME:EDT
DTSTART:20260308T070000
END:DAYLIGHT
BEGIN:STANDARD
TZOFFSETFROM:-0400
TZOFFSETTO:-0500
TZNAME:EST
DTSTART:20261101T060000
END:STANDARD
BEGIN:DAYLIGHT
TZOFFSETFROM:-0500
TZOFFSETTO:-0400
TZNAME:EDT
DTSTART:20270314T070000
END:DAYLIGHT
BEGIN:STANDARD
TZOFFSETFROM:-0400
TZOFFSETTO:-0500
TZNAME:EST
DTSTART:20271107T060000
END:STANDARD
END:VTIMEZONE
BEGIN:VEVENT
DTSTART;TZID=America/New_York:20260806T080000
DTEND;TZID=America/New_York:20260806T170000
DTSTAMP:20260421T051714
CREATED:20260418T133149Z
LAST-MODIFIED:20260418T133149Z
UID:2891-1786003200-1786035600@balloonindustrycalendar.com
SUMMARY:Sempertex MBP Test and Certification Class
DESCRIPTION:Are you ready to take your business to the next level? Become a Master Balloon Professional recognized by Sempertex and Betallic. Don’t miss your opportunity to become MBP certified! \nAugust 6th: Marriott New York JFK Airport 135-25 142nd Street\, Jamaica\, New York\, USA\, 11436 \nLearn more about the Sempertex MBP: https://sempertex.com/en/pages/mbp?srsltid=AfmBOopw6NMTIawZdTBP9EI9JiR-gy4UoGXgrTw_w-soMkAJoqOxJ_VP
URL:https://balloonindustrycalendar.com/event/sempertex-mbp-test-and-certification-class
LOCATION:Marriott New York JFK Airport\, 135-25 142nd Street\, Jamaica\, NY\, 11436\, United States
CATEGORIES:Décor,In Person
END:VEVENT
END:VCALENDAR