BEGIN:VCALENDAR
VERSION:2.0
PRODID:-//Balloon Industry Calendar - ECPv6.15.20//NONSGML v1.0//EN
CALSCALE:GREGORIAN
METHOD:PUBLISH
X-WR-CALNAME:Balloon Industry Calendar
X-ORIGINAL-URL:https://balloonindustrycalendar.com
X-WR-CALDESC:Events for Balloon Industry Calendar
REFRESH-INTERVAL;VALUE=DURATION:PT1H
X-Robots-Tag:noindex
X-PUBLISHED-TTL:PT1H
BEGIN:VTIMEZONE
TZID:America/Chicago
BEGIN:DAYLIGHT
TZOFFSETFROM:-0600
TZOFFSETTO:-0500
TZNAME:CDT
DTSTART:20240310T080000
END:DAYLIGHT
BEGIN:STANDARD
TZOFFSETFROM:-0500
TZOFFSETTO:-0600
TZNAME:CST
DTSTART:20241103T070000
END:STANDARD
BEGIN:DAYLIGHT
TZOFFSETFROM:-0600
TZOFFSETTO:-0500
TZNAME:CDT
DTSTART:20250309T080000
END:DAYLIGHT
BEGIN:STANDARD
TZOFFSETFROM:-0500
TZOFFSETTO:-0600
TZNAME:CST
DTSTART:20251102T070000
END:STANDARD
BEGIN:DAYLIGHT
TZOFFSETFROM:-0600
TZOFFSETTO:-0500
TZNAME:CDT
DTSTART:20260308T080000
END:DAYLIGHT
BEGIN:STANDARD
TZOFFSETFROM:-0500
TZOFFSETTO:-0600
TZNAME:CST
DTSTART:20261101T070000
END:STANDARD
END:VTIMEZONE
BEGIN:VEVENT
DTSTART;TZID=America/Chicago:20251026T040000
DTEND;TZID=America/Chicago:20251026T200000
DTSTAMP:20260419T091131
CREATED:20251022T135021Z
LAST-MODIFIED:20251022T135021Z
UID:1658-1761451200-1761508800@balloonindustrycalendar.com
SUMMARY:THE ONLINE HALLOWEEN WALL CRAWL
DESCRIPTION:PLEASE READ!!!! THE CLASS LINK WILL BE SENT VIA TEXT MESSAGE 24HRS BEFORE THE START OF CLASS. \nJoin me for an exciting live online class where I’ll share my signature Wall Crawl Formula and Technique! This interactive session is perfect for balloon artists who want to elevate their designs and master one of my most popular creations. \nClass Includes: \n\n\n Live Demonstration – Watch me create the full design in real-time.\n Q&A Session – Get your questions answered directly and leave feeling confident.\n Balloon Vendor List – Gain access to my trusted vendors so you know exactly where to shop.\n\nIMPORTANT * NO MATERIALS ARE NEEDED. THIS CLASS IS A LOOK AND LEARN
URL:https://balloonindustrycalendar.com/event/the-online-halloween-wall-crawl
LOCATION:Virtual
CATEGORIES:Décor,Virtual
END:VEVENT
END:VCALENDAR