BEGIN:VCALENDAR
VERSION:2.0
PRODID:-//Balloon Industry Calendar - ECPv6.15.20//NONSGML v1.0//EN
CALSCALE:GREGORIAN
METHOD:PUBLISH
X-WR-CALNAME:Balloon Industry Calendar
X-ORIGINAL-URL:https://balloonindustrycalendar.com
X-WR-CALDESC:Events for Balloon Industry Calendar
REFRESH-INTERVAL;VALUE=DURATION:PT1H
X-Robots-Tag:noindex
X-PUBLISHED-TTL:PT1H
BEGIN:VTIMEZONE
TZID:America/New_York
BEGIN:DAYLIGHT
TZOFFSETFROM:-0500
TZOFFSETTO:-0400
TZNAME:EDT
DTSTART:20240310T070000
END:DAYLIGHT
BEGIN:STANDARD
TZOFFSETFROM:-0400
TZOFFSETTO:-0500
TZNAME:EST
DTSTART:20241103T060000
END:STANDARD
BEGIN:DAYLIGHT
TZOFFSETFROM:-0500
TZOFFSETTO:-0400
TZNAME:EDT
DTSTART:20250309T070000
END:DAYLIGHT
BEGIN:STANDARD
TZOFFSETFROM:-0400
TZOFFSETTO:-0500
TZNAME:EST
DTSTART:20251102T060000
END:STANDARD
BEGIN:DAYLIGHT
TZOFFSETFROM:-0500
TZOFFSETTO:-0400
TZNAME:EDT
DTSTART:20260308T070000
END:DAYLIGHT
BEGIN:STANDARD
TZOFFSETFROM:-0400
TZOFFSETTO:-0500
TZNAME:EST
DTSTART:20261101T060000
END:STANDARD
END:VTIMEZONE
BEGIN:VEVENT
DTSTART;VALUE=DATE:20251021
DTEND;VALUE=DATE:20251024
DTSTAMP:20260419T101549
CREATED:20250423T181738Z
LAST-MODIFIED:20250423T182855Z
UID:649-1761004800-1761263999@balloonindustrycalendar.com
SUMMARY:Sempertex International Balloon Convention (IBC)
DESCRIPTION:Learn from international instructors\, interact with other balloon industry professionals\, and put your creativity to the test in the spaces we’ve designed for you. \n\n$70 Pre-sale discount until 31 July\n$300 add on for Master Balloon Professional (MBP) Evaluation\n\nCost includes: \n\n3 full days of classes\n6 international instructor classes\nGoodie Bag\nDiploma\nLunch and dinner for the three days of the convention\nVendors’ room\nHands-on training\nPanel with industry leaders
URL:https://balloonindustrycalendar.com/event/sempertex-international-balloon-convention-ibc
LOCATION:Aloft Orlando Lake Nona\, 7215 Corner Dr.\, Orlando\, FL\, 32827\, United States
CATEGORIES:Décor,In Person
END:VEVENT
END:VCALENDAR