BEGIN:VCALENDAR
VERSION:2.0
PRODID:-//Balloon Industry Calendar - ECPv6.15.20//NONSGML v1.0//EN
CALSCALE:GREGORIAN
METHOD:PUBLISH
X-WR-CALNAME:Balloon Industry Calendar
X-ORIGINAL-URL:https://balloonindustrycalendar.com
X-WR-CALDESC:Events for Balloon Industry Calendar
REFRESH-INTERVAL;VALUE=DURATION:PT1H
X-Robots-Tag:noindex
X-PUBLISHED-TTL:PT1H
BEGIN:VTIMEZONE
TZID:America/Los_Angeles
BEGIN:DAYLIGHT
TZOFFSETFROM:-0800
TZOFFSETTO:-0700
TZNAME:PDT
DTSTART:20240310T100000
END:DAYLIGHT
BEGIN:STANDARD
TZOFFSETFROM:-0700
TZOFFSETTO:-0800
TZNAME:PST
DTSTART:20241103T090000
END:STANDARD
BEGIN:DAYLIGHT
TZOFFSETFROM:-0800
TZOFFSETTO:-0700
TZNAME:PDT
DTSTART:20250309T100000
END:DAYLIGHT
BEGIN:STANDARD
TZOFFSETFROM:-0700
TZOFFSETTO:-0800
TZNAME:PST
DTSTART:20251102T090000
END:STANDARD
BEGIN:DAYLIGHT
TZOFFSETFROM:-0800
TZOFFSETTO:-0700
TZNAME:PDT
DTSTART:20260308T100000
END:DAYLIGHT
BEGIN:STANDARD
TZOFFSETFROM:-0700
TZOFFSETTO:-0800
TZNAME:PST
DTSTART:20261101T090000
END:STANDARD
END:VTIMEZONE
BEGIN:VEVENT
DTSTART;TZID=America/Los_Angeles:20250826T090000
DTEND;TZID=America/Los_Angeles:20250826T120000
DTSTAMP:20260423T052121
CREATED:20250715T230009Z
LAST-MODIFIED:20250715T230009Z
UID:841-1756198800-1756209600@balloonindustrycalendar.com
SUMMARY:TUFTEX TUESDAY: Los Angeles (Joker Party Supply)
DESCRIPTION:Free Class in English 9 a.m. until 12 p.m. \nBack to School for Balloon Artists: Tiffany Donovan Marino\, the QUEEN of Confetti Castle\, is traveling all the way from North Carolina to LA to share her business basics. Tiffany thrives on efficiency and helping other balloon pros make more $$$ in their businesses. NOW is the time to implement new practices to help your business grow & thrive\, with TUFTEX Balloons + Joker Party Supply.
URL:https://balloonindustrycalendar.com/event/tuftex-tuesday-los-angeles-joker-party-supply-5
LOCATION:Joker Party Supply (Los Angeles)\, 1512 E Olympic Blvd.\, Los Angeles\, CA\, 90021\, United States
CATEGORIES:Business
END:VEVENT
END:VCALENDAR