BEGIN:VCALENDAR
VERSION:2.0
PRODID:-//Balloon Industry Calendar - ECPv6.15.20//NONSGML v1.0//EN
CALSCALE:GREGORIAN
METHOD:PUBLISH
X-ORIGINAL-URL:https://balloonindustrycalendar.com
X-WR-CALDESC:Events for Balloon Industry Calendar
REFRESH-INTERVAL;VALUE=DURATION:PT1H
X-Robots-Tag:noindex
X-PUBLISHED-TTL:PT1H
BEGIN:VTIMEZONE
TZID:America/Los_Angeles
BEGIN:DAYLIGHT
TZOFFSETFROM:-0800
TZOFFSETTO:-0700
TZNAME:PDT
DTSTART:20240310T100000
END:DAYLIGHT
BEGIN:STANDARD
TZOFFSETFROM:-0700
TZOFFSETTO:-0800
TZNAME:PST
DTSTART:20241103T090000
END:STANDARD
BEGIN:DAYLIGHT
TZOFFSETFROM:-0800
TZOFFSETTO:-0700
TZNAME:PDT
DTSTART:20250309T100000
END:DAYLIGHT
BEGIN:STANDARD
TZOFFSETFROM:-0700
TZOFFSETTO:-0800
TZNAME:PST
DTSTART:20251102T090000
END:STANDARD
BEGIN:DAYLIGHT
TZOFFSETFROM:-0800
TZOFFSETTO:-0700
TZNAME:PDT
DTSTART:20260308T100000
END:DAYLIGHT
BEGIN:STANDARD
TZOFFSETFROM:-0700
TZOFFSETTO:-0800
TZNAME:PST
DTSTART:20261101T090000
END:STANDARD
END:VTIMEZONE
BEGIN:VEVENT
DTSTART;TZID=America/Los_Angeles:20250701T090000
DTEND;TZID=America/Los_Angeles:20250701T120000
DTSTAMP:20260419T081842
CREATED:20250524T180035Z
LAST-MODIFIED:20250524T180301Z
UID:728-1751360400-1751371200@balloonindustrycalendar.com
SUMMARY:Tuftex Tuesday: Los Angeles (Joker Party Supply)
DESCRIPTION:Free Class in English 9 a.m. until 12 p.m. \nTouchdown: Score big with this football-themed backdrop class! Join Hector of Special Moments by Hector\, North Hollywood\, CA\, on a journey through his creative process\, from securing clients to pitching fresh ideas. Let’s discover together how to elevate your revenue while also creating breathtaking content. \nNo registration required\, just come join in the fun and learning!
URL:https://balloonindustrycalendar.com/event/tuftex-tuesday-los-angeles-joker-party-supply-4
LOCATION:Joker Party Supply (Los Angeles)\, 1512 E Olympic Blvd.\, Los Angeles\, CA\, 90021\, United States
CATEGORIES:Décor,In Person
END:VEVENT
END:VCALENDAR