BEGIN:VCALENDAR
VERSION:2.0
PRODID:-//Balloon Industry Calendar - ECPv6.15.20//NONSGML v1.0//EN
CALSCALE:GREGORIAN
METHOD:PUBLISH
X-ORIGINAL-URL:https://balloonindustrycalendar.com
X-WR-CALDESC:Events for Balloon Industry Calendar
REFRESH-INTERVAL;VALUE=DURATION:PT1H
X-Robots-Tag:noindex
X-PUBLISHED-TTL:PT1H
BEGIN:VTIMEZONE
TZID:America/New_York
BEGIN:DAYLIGHT
TZOFFSETFROM:-0500
TZOFFSETTO:-0400
TZNAME:EDT
DTSTART:20240310T070000
END:DAYLIGHT
BEGIN:STANDARD
TZOFFSETFROM:-0400
TZOFFSETTO:-0500
TZNAME:EST
DTSTART:20241103T060000
END:STANDARD
BEGIN:DAYLIGHT
TZOFFSETFROM:-0500
TZOFFSETTO:-0400
TZNAME:EDT
DTSTART:20250309T070000
END:DAYLIGHT
BEGIN:STANDARD
TZOFFSETFROM:-0400
TZOFFSETTO:-0500
TZNAME:EST
DTSTART:20251102T060000
END:STANDARD
BEGIN:DAYLIGHT
TZOFFSETFROM:-0500
TZOFFSETTO:-0400
TZNAME:EDT
DTSTART:20260308T070000
END:DAYLIGHT
BEGIN:STANDARD
TZOFFSETFROM:-0400
TZOFFSETTO:-0500
TZNAME:EST
DTSTART:20261101T060000
END:STANDARD
END:VTIMEZONE
BEGIN:VEVENT
DTSTART;TZID=America/New_York:20250527T090000
DTEND;TZID=America/New_York:20250527T120000
DTSTAMP:20260423T054821
CREATED:20250403T144413Z
LAST-MODIFIED:20250403T144413Z
UID:612-1748336400-1748347200@balloonindustrycalendar.com
SUMMARY:TUFTEX TUESDAY: Région de Montréal (SKS Novelty)
DESCRIPTION:GRATUITE COURS! 9 a.m. until 12 p.m.  \nSalut diplômé! Tanipha Cormier de Tanou Inc.\, Montréal\, est prête à vous aider à découvrir votre propre style personnalisé de décor de ballons. Pas besoin de tous les accessoires supplémentaires cette saison de remise des diplômes… Tanipha partagera ses couleurs neutres personnalisées préférées et vous conseillera sur la façon de créer des motifs volumineux qui plairont à coup sûr. À la meilleure saison de graduation! \n\nVous pouvez vous inscrire en envoyant un envoyer un courriel à lynn@sksnovelty.ca
URL:https://balloonindustrycalendar.com/event/tuftex-tuesday-region-de-montreal-sks-novelty
LOCATION:SKS Novelty (Boucherville)\, 1351 J Rue Ampere\, Boucherville\, Quebec\, J4B 5Z5\, Canada
CATEGORIES:Décor,In Person
END:VEVENT
END:VCALENDAR