BEGIN:VCALENDAR
VERSION:2.0
PRODID:-//Balloon Industry Calendar - ECPv6.15.20//NONSGML v1.0//EN
CALSCALE:GREGORIAN
METHOD:PUBLISH
X-WR-CALNAME:Balloon Industry Calendar
X-ORIGINAL-URL:https://balloonindustrycalendar.com
X-WR-CALDESC:Events for Balloon Industry Calendar
REFRESH-INTERVAL;VALUE=DURATION:PT1H
X-Robots-Tag:noindex
X-PUBLISHED-TTL:PT1H
BEGIN:VTIMEZONE
TZID:America/Los_Angeles
BEGIN:DAYLIGHT
TZOFFSETFROM:-0800
TZOFFSETTO:-0700
TZNAME:PDT
DTSTART:20240310T100000
END:DAYLIGHT
BEGIN:STANDARD
TZOFFSETFROM:-0700
TZOFFSETTO:-0800
TZNAME:PST
DTSTART:20241103T090000
END:STANDARD
BEGIN:DAYLIGHT
TZOFFSETFROM:-0800
TZOFFSETTO:-0700
TZNAME:PDT
DTSTART:20250309T100000
END:DAYLIGHT
BEGIN:STANDARD
TZOFFSETFROM:-0700
TZOFFSETTO:-0800
TZNAME:PST
DTSTART:20251102T090000
END:STANDARD
BEGIN:DAYLIGHT
TZOFFSETFROM:-0800
TZOFFSETTO:-0700
TZNAME:PDT
DTSTART:20260308T100000
END:DAYLIGHT
BEGIN:STANDARD
TZOFFSETFROM:-0700
TZOFFSETTO:-0800
TZNAME:PST
DTSTART:20261101T090000
END:STANDARD
END:VTIMEZONE
BEGIN:VTIMEZONE
TZID:America/New_York
BEGIN:DAYLIGHT
TZOFFSETFROM:-0500
TZOFFSETTO:-0400
TZNAME:EDT
DTSTART:20240310T070000
END:DAYLIGHT
BEGIN:STANDARD
TZOFFSETFROM:-0400
TZOFFSETTO:-0500
TZNAME:EST
DTSTART:20241103T060000
END:STANDARD
BEGIN:DAYLIGHT
TZOFFSETFROM:-0500
TZOFFSETTO:-0400
TZNAME:EDT
DTSTART:20250309T070000
END:DAYLIGHT
BEGIN:STANDARD
TZOFFSETFROM:-0400
TZOFFSETTO:-0500
TZNAME:EST
DTSTART:20251102T060000
END:STANDARD
BEGIN:DAYLIGHT
TZOFFSETFROM:-0500
TZOFFSETTO:-0400
TZNAME:EDT
DTSTART:20260308T070000
END:DAYLIGHT
BEGIN:STANDARD
TZOFFSETFROM:-0400
TZOFFSETTO:-0500
TZNAME:EST
DTSTART:20261101T060000
END:STANDARD
END:VTIMEZONE
BEGIN:VEVENT
DTSTART;TZID=America/Los_Angeles:20250506T090000
DTEND;TZID=America/Los_Angeles:20250506T120000
DTSTAMP:20260423T091322
CREATED:20250403T141009Z
LAST-MODIFIED:20250403T141009Z
UID:600-1746522000-1746532800@balloonindustrycalendar.com
SUMMARY:TUFTEX TUESDAY: Los Angeles (Joker Party Supply)
DESCRIPTION:Free Class in English 9 a.m. until 12 p.m. \nLet’s Spoil Mom: Ada Vallejo of Ada’s Twisted Creations\, Los Angeles\, CA\, will be sharing her knowledge to help you celebrate all the mom’s this Mother’s Day! Ada will demonstrate how she creates her lovely balloon bouquets using twisting techniques for fast + sellable options that every mom is sure to LOVE.
URL:https://balloonindustrycalendar.com/event/tuftex-tuesday-los-angeles-joker-party-supply-2
LOCATION:Joker Party Supply (Los Angeles)\, 1512 E Olympic Blvd.\, Los Angeles\, CA\, 90021\, United States
CATEGORIES:Décor,In Person
END:VEVENT
BEGIN:VEVENT
DTSTART;TZID=America/New_York:20250506T100000
DTEND;TZID=America/New_York:20250506T130000
DTSTAMP:20260423T091322
CREATED:20250403T141129Z
LAST-MODIFIED:20250403T141129Z
UID:602-1746525600-1746536400@balloonindustrycalendar.com
SUMMARY:TUFTEX TUESDAY in Miami (Toy World)
DESCRIPTION:Free Class in Miami: 10 a.m. until 1 p.m \nLive\, Laugh & Illuminate: Alexander Pierre of Hullaballoon\, Loxahatchee\, FL\, will be lighting up the morning at Toy World. Learn to inflate\, style\, and execute properly decorating an LED Marquee display. Special shout out to LED Marquee South Florida for providing the letters!
URL:https://balloonindustrycalendar.com/event/tuftex-tuesday-in-miami-toy-world-2
LOCATION:Toy World (Miami)\, 7455 NW 41st St\, Miami\, FL\, 33166\, United States
CATEGORIES:Décor,In Person
END:VEVENT
BEGIN:VEVENT
DTSTART;TZID=America/New_York:20250506T100000
DTEND;TZID=America/New_York:20250506T130000
DTSTAMP:20260423T091322
CREATED:20250403T141844Z
LAST-MODIFIED:20250403T141844Z
UID:604-1746525600-1746536400@balloonindustrycalendar.com
SUMMARY:TUFTEX TUESDAY: NY/NJ (HavinA Party)
DESCRIPTION:Free Class from 10 a.m. until 1 p.m.\n\n\n\n\nThe Magic of Rainbows: Victoria Dzierza of Balloons by Victoria\, Warminster\, PA\, is bringing all the color to the NYC area\, sharing how you can make a rainbow using the duplet pack method and how to seamlessly & successfully incorporate it into your organic designs. Additionally\, she will make a stunning rainbow column using our new TT-260’s. Life is better in COLOR! \n\nRegister now to secure your spot using the code TUFTEX Balloons at checkout at https://www.havinaparty.com. \n** must spend $99 USD on TUFTEX products to add ticket to cart
URL:https://balloonindustrycalendar.com/event/tuftex-tuesday-ny-nj-havina-party
LOCATION:HavinA Party Warehouse\, 1354 E 64th St\, Brooklyn\, New York\, 11236\, United States Minor Outlying Islands
CATEGORIES:Décor,In Person
END:VEVENT
END:VCALENDAR